BEGIN:VCALENDAR
VERSION:2.0
PRODID:-//ChamberMaster//Event Calendar 2.0//EN
METHOD:PUBLISH
X-PUBLISHED-TTL:P3D
REFRESH-INTERVAL:P3D
CALSCALE:GREGORIAN
BEGIN:VEVENT
DTSTART:20190510T023000Z
DTEND:20190510T063000Z
X-MICROSOFT-CDO-ALLDAYEVENT:FALSE
SUMMARY:10 Minute Play Festival
DESCRIPTION:GHC's talented student playwrights present their original short plays. Performed and directed by students\, faculty\, alumni and our community. Not suitable for young audiences.
X-ALT-DESC;FMTTYPE=text/html:GHC&#39\;s talented student playwrights present their original short plays. Performed and directed by students\, faculty\, alumni and our community. Not suitable for young audiences.
LOCATION:1620 Edward P Smith Dr Aberdeen\, Washington
UID:e.26.11981
SEQUENCE:3
DTSTAMP:20260424T133201Z
URL:https://chamber.graysharbor.org/events/details/10-minute-play-festival-05-09-2019-11981
END:VEVENT

END:VCALENDAR
