BEGIN:VCALENDAR
VERSION:2.0
PRODID:-//ChamberMaster//Event Calendar 2.0//EN
METHOD:PUBLISH
X-PUBLISHED-TTL:P3D
REFRESH-INTERVAL:P3D
CALSCALE:GREGORIAN
BEGIN:VEVENT
DTSTART:20190921T140000Z
DTEND:20190921T230000Z
X-MICROSOFT-CDO-ALLDAYEVENT:FALSE
SUMMARY:10th Annual Lake Sylvia State Park Fall Festival
DESCRIPTION:Bring the family and join the fun on SEPT 21st\, 2019\, at the 10th Annual Lake Sylvia State Park Fall Festival at Lake Sylvia State Park in Montesano\, WA!\n\nThis free Festival includes trail races for kids and adults\, an early morning pancake breakfast\, a kayak paddle\, a handmade only Artists Market with 30 artists\, live music\, food\, commercial\, educational and non-profit vendors\, kids nature crafts and activities\, and an interesting historic talk by a local Wild West author.\n\nA free shuttle bus service will be provided every 15 minutes between Simpson Elementary School on Simpson Ave\, and the park. Discover Passes required for in parking in the State Park. Message us for more information. Sponsored by FOSLS (Friends of Schafer and Lake Sylvia State Parks) and WA State Parks.
X-ALT-DESC;FMTTYPE=text/html:<span style="caret-color: rgb(29\, 33\, 41)\; color: rgb(29\, 33\, 41)\; font-family: system-ui\, -apple-system\, BlinkMacSystemFont\, &quot\;.SFNSText-Regular&quot\;\, sans-serif\; font-size: 14px\; white-space: pre-wrap\; background-color: rgb(255\, 255\, 255)\;">Bring the family and join the fun on SEPT 21st\, 2019\, at the 10th Annual Lake Sylvia State Park Fall Festival at Lake Sylvia State Park in Montesano\, WA!<br />\nThis free Festival includes trail races for kids and adults\, an early morning pancake breakfast\, a kayak paddle\, a handmade only Artists Market with 30 artists\, live music\, food\, commercial\, educational and non-profit vendors\, kids nature crafts and activities\, and an interesting historic talk by a local Wild West author.</span><br style="caret-color: rgb(29\, 33\, 41)\; color: rgb(29\, 33\, 41)\; font-family: system-ui\, -apple-system\, BlinkMacSystemFont\, &quot\;.SFNSText-Regular&quot\;\, sans-serif\; font-size: 14px\; white-space: pre-wrap\;" />\n<span style="caret-color: rgb(29\, 33\, 41)\; color: rgb(29\, 33\, 41)\; font-family: system-ui\, -apple-system\, BlinkMacSystemFont\, &quot\;.SFNSText-Regular&quot\;\, sans-serif\; font-size: 14px\; white-space: pre-wrap\; background-color: rgb(255\, 255\, 255)\;">A free shuttle bus service will be provided every 15 minutes between Simpson Elementary School on Simpson Ave\, and the park. Discover Passes required for in parking in the State Park. Message us for more information. Sponsored by FOSLS (Friends of Schafer and Lake Sylvia State Parks) and WA State Parks.</span>
LOCATION:Lake Sylvia State Park - 1813 Lake Sylvia Rd North Montesano\, WA
UID:e.26.11908
SEQUENCE:3
DTSTAMP:20260424T090541Z
URL:https://chamber.graysharbor.org/events/details/10th-annual-lake-sylvia-state-park-fall-festival-11908
END:VEVENT

END:VCALENDAR
