BEGIN:VCALENDAR
VERSION:2.0
PRODID:-//ChamberMaster//Event Calendar 2.0//EN
METHOD:PUBLISH
X-PUBLISHED-TTL:P3D
REFRESH-INTERVAL:P3D
CALSCALE:GREGORIAN
BEGIN:VEVENT
DTSTART:20180223T020000Z
DTEND:20180223T040000Z
X-MICROSOFT-CDO-ALLDAYEVENT:FALSE
SUMMARY:10th Annual Mystery Getaway
DESCRIPTION:Dust off those superhero capes\, light sabers and kryptonite medallions for our 10th Annual Mystery Getaway!\n\n\n\nLike our 9 previous Getaways\, our destination is a mystery\, but we guarantee the winner will have a great time. So grab your mask and shield and let's unite for a fun evening to support the mission of the Grays Harbor College Foundation! \n\n\n\nSuperwoman\, Superman\, Captain America\, Wonder Woman\, Batman and even Robin will be there to wow the crowd. Just remember\, you do not need to wear a cape or mask to be a superhero that makes an impact on a students life!
X-ALT-DESC;FMTTYPE=text/html:<span style="color: rgb(75\, 79\, 86)\; font-family: Helvetica\, Arial\, sans-serif\; font-size: 14px\; background-color: rgb(255\, 255\, 255)\;">Dust off those superhero capes\, light sabers and kryptonite medallions for our 10th Annual Mystery Getaway!</span><br style="color: rgb(75\, 79\, 86)\; font-family: Helvetica\, Arial\, sans-serif\; font-size: 14px\; background-color: rgb(255\, 255\, 255)\;" />\n<br style="color: rgb(75\, 79\, 86)\; font-family: Helvetica\, Arial\, sans-serif\; font-size: 14px\; background-color: rgb(255\, 255\, 255)\;" />\n<span style="color: rgb(75\, 79\, 86)\; font-family: Helvetica\, Arial\, sans-serif\; font-size: 14px\; background-color: rgb(255\, 255\, 255)\;">Like our 9 previous Getaways\, our destination is a mystery\, but we guarantee the winner will have a great time. So grab your mask and shield and let&rsquo\;s unite for a fun evening to support the mission of the Grays Harbor College Foundation!&nbsp\;</span><br style="color: rgb(75\, 79\, 86)\; font-family: Helvetica\, Arial\, sans-serif\; font-size: 14px\; background-color: rgb(255\, 255\, 255)\;" />\n<br style="color: rgb(75\, 79\, 86)\; font-family: Helvetica\, Arial\, sans-serif\; font-size: 14px\; background-color: rgb(255\, 255\, 255)\;" />\n<span style="color: rgb(75\, 79\, 86)\; font-family: Helvetica\, Arial\, sans-serif\; font-size: 14px\; background-color: rgb(255\, 255\, 255)\;">Superwoman\, Superman\, Captain America\, Wonder Woman\, Batman and even Robin will be there to wow the crowd. Just remember\, you do not need to wear a cape or mask to be a superhero that makes an impact on a students life!</span>
LOCATION:The Hub Grays Harbor College Aberdeen\, WA
UID:e.26.9392
SEQUENCE:3
DTSTAMP:20260425T145556Z
URL:https://chamber.graysharbor.org/events/details/10th-annual-mystery-getaway-9392
END:VEVENT

END:VCALENDAR
