BEGIN:VCALENDAR
VERSION:2.0
PRODID:-//ChamberMaster//Event Calendar 2.0//EN
METHOD:PUBLISH
X-PUBLISHED-TTL:P3D
REFRESH-INTERVAL:P3D
CALSCALE:GREGORIAN
BEGIN:VEVENT
DTSTART:20251206T180000Z
DTEND:20251207T000000Z
X-MICROSOFT-CDO-ALLDAYEVENT:FALSE
SUMMARY:10th Annual One Stop Christmas Shop
DESCRIPTION:Come shop from some of your local vendors and find the perfect gift for everyone on your Christmas list! There will be a little bit of everything from jewelry to books\, fragrance to kitchen items. Stop by to see what your local crafters & home based businesses have been working on this past year.\n\n\n\nSanta will be available for pictures. Pictures are by donation and you use your own camera.\n\nThe Auxilliary will have a gift wrapping table. Bring your gifts from home to be wrapped or have them wrap your purchases. Gift wrapping is by donation.
X-ALT-DESC;FMTTYPE=text/html:<span style="font-family:arial\;">Come shop from some of your local vendors and find the perfect gift for everyone on your Christmas list! There will be a little bit of everything from jewelry to books\, fragrance to kitchen items. Stop by to see what your local crafters &amp\; home based businesses have been working on this past year.<br />\n<br />\nSanta will be available for pictures. Pictures are by donation and you use your own camera.<br />\nThe Auxilliary will have a gift wrapping table. Bring your gifts from home to be wrapped or have them wrap your purchases. Gift wrapping is by donation.</span>
LOCATION:158 N Summit Rd\, McCleary\, WA
UID:e.26.15283
SEQUENCE:3
DTSTAMP:20260423T220512Z
URL:https://chamber.graysharbor.org/events/details/10th-annual-one-stop-christmas-shop-15283
END:VEVENT

END:VCALENDAR
