BEGIN:VCALENDAR
VERSION:2.0
PRODID:-//ChamberMaster//Event Calendar 2.0//EN
METHOD:PUBLISH
X-PUBLISHED-TTL:P3D
REFRESH-INTERVAL:P3D
CALSCALE:GREGORIAN
BEGIN:VEVENT
DTSTART:20190222T020000Z
DTEND:20190222T040000Z
X-MICROSOFT-CDO-ALLDAYEVENT:FALSE
SUMMARY:11th Annual Mystery Getaway
DESCRIPTION:et ready to set sail for the 11th Annual Mystery Getaway to support the mission of the Grays Harbor College Foundation!\n\n\n\nLike our 10 previous Getaways\, our destination is a mystery\, but we guarantee the winner will have a great time. Previous destinations have included Santa Fe\, San Diego\, Las Vegas\, and New York City!\n\n\n\nTickets are $50. Must be 21 years of age and present to win.
X-ALT-DESC;FMTTYPE=text/html:<span style="caret-color: rgb(29\, 33\, 41)\; color: rgb(29\, 33\, 41)\; font-family: system-ui\, -apple-system\, BlinkMacSystemFont\, &quot\;.SFNSText-Regular&quot\;\, sans-serif\; font-size: 14px\; background-color: rgb(255\, 255\, 255)\;">et ready to set sail for the 11th Annual Mystery Getaway to support the mission of the Grays Harbor College Foundation!</span><br style="caret-color: rgb(29\, 33\, 41)\; color: rgb(29\, 33\, 41)\; font-family: system-ui\, -apple-system\, BlinkMacSystemFont\, &quot\;.SFNSText-Regular&quot\;\, sans-serif\; font-size: 14px\;" />\n<br style="caret-color: rgb(29\, 33\, 41)\; color: rgb(29\, 33\, 41)\; font-family: system-ui\, -apple-system\, BlinkMacSystemFont\, &quot\;.SFNSText-Regular&quot\;\, sans-serif\; font-size: 14px\;" />\n<span style="caret-color: rgb(29\, 33\, 41)\; color: rgb(29\, 33\, 41)\; font-family: system-ui\, -apple-system\, BlinkMacSystemFont\, &quot\;.SFNSText-Regular&quot\;\, sans-serif\; font-size: 14px\; background-color: rgb(255\, 255\, 255)\;">Like our 10 previous Getaways\, our destination is a mystery\, but we guarantee the winner will have a great time. Previous destinations have included Santa Fe\, San Diego\, Las Vegas\, and New York City!</span><br style="caret-color: rgb(29\, 33\, 41)\; color: rgb(29\, 33\, 41)\; font-family: system-ui\, -apple-system\, BlinkMacSystemFont\, &quot\;.SFNSText-Regular&quot\;\, sans-serif\; font-size: 14px\;" />\n<br style="caret-color: rgb(29\, 33\, 41)\; color: rgb(29\, 33\, 41)\; font-family: system-ui\, -apple-system\, BlinkMacSystemFont\, &quot\;.SFNSText-Regular&quot\;\, sans-serif\; font-size: 14px\;" />\n<span style="caret-color: rgb(29\, 33\, 41)\; color: rgb(29\, 33\, 41)\; font-family: system-ui\, -apple-system\, BlinkMacSystemFont\, &quot\;.SFNSText-Regular&quot\;\, sans-serif\; font-size: 14px\; background-color: rgb(255\, 255\, 255)\;">Tickets are $50. Must be 21 years of age and present to win.</span>
LOCATION:pin Grays Harbor College Foundation 1620 Edward P. Smith Dr.\, Aberdeen\, Washington 98520
UID:e.26.11397
SEQUENCE:3
DTSTAMP:20260424T181616Z
URL:https://chamber.graysharbor.org/events/details/11th-annual-mystery-getaway-11397
END:VEVENT

END:VCALENDAR
