BEGIN:VCALENDAR
VERSION:2.0
PRODID:-//ChamberMaster//Event Calendar 2.0//EN
METHOD:PUBLISH
X-PUBLISHED-TTL:P3D
REFRESH-INTERVAL:P3D
CALSCALE:GREGORIAN
BEGIN:VEVENT
DTSTART;VALUE=DATE:20181016
DTEND;VALUE=DATE:20181022
TRANSP:TRANSPARENT
X-MICROSOFT-CDO-ALLDAYEVENT:TRUE
SUMMARY:15th Annual Celtic Music Feis
DESCRIPTION:2018 will herald the 15th year of the Galway Bay Celtic Music Feis\, celebrating Irish songs\, ballads\, players and bands that will be flooding Ocean Shores\, WA with music and fun for six days this October. This year the festival begins with an extra day (MONDAY - ALE HOUSE ONLY - LIMITED ACCESS) and then kicking off at the pub the evening of Tuesday\, October 16th\, 2018 and lasts until Sunday\, October 21st\, 2018. An eclectic mix of Irish bands\, choirs and dancers hailing from throughout the United States\, Canada and\, of course\, Ireland will be rounding out this year's entertainment. We have reached a milestone with this being our 15th Anniversary and are excited to make this the best Feis ever!
X-ALT-DESC;FMTTYPE=text/html:<span style="color: rgb(29\, 33\, 41)\; font-family: Helvetica\, Arial\, sans-serif\; font-size: 14px\; background-color: rgb(255\, 255\, 255)\;">2018 will herald the 15th year of the Galway Bay Celtic Music Feis\, celebrating Irish songs\, ballads\, players and bands that will be flooding Ocean Shores\, WA with music and fun for six days this October. This year the festival begins with an extra day (MONDAY - ALE HOUSE ONLY - LIMITED ACCESS) and then kicking off at the pub the evening of Tuesday\, October 16th\, 2018 and lasts until Sunday\, October 21st\, 2018. An eclectic mix of Irish bands\, choirs and dancers hailing from throughout the United States\, Canada and\, of course\, Ireland will be rounding out this year&#39\;s entertainment. We have reached a milestone with this being our 15th Anniversary and are excited to make this the best Feis ever!</span>
LOCATION:pin Galway Bay Irish Restaurant & Pub 880 Point Brown Ave NE\, Ocean Shores\, Washington 98569
UID:e.26.11206
SEQUENCE:3
DTSTAMP:20260425T001949Z
URL:https://chamber.graysharbor.org/events/details/15th-annual-celtic-music-feis-11206
END:VEVENT

END:VCALENDAR
