BEGIN:VCALENDAR
VERSION:2.0
PRODID:-//ChamberMaster//Event Calendar 2.0//EN
METHOD:PUBLISH
X-PUBLISHED-TTL:P3D
REFRESH-INTERVAL:P3D
CALSCALE:GREGORIAN
BEGIN:VEVENT
DTSTART;VALUE=DATE:20171006
DTEND;VALUE=DATE:20171009
TRANSP:TRANSPARENT
X-MICROSOFT-CDO-ALLDAYEVENT:TRUE
SUMMARY:15th Annual Clean Water Classic
DESCRIPTION:Watch or participate in this surfing contest in Westport. For information\,  Click Here. For photos from previous years\, Click Here.
X-ALT-DESC;FMTTYPE=text/html:&nbsp\;Watch or participate in this surfing contest in Westport. For information\, <a href="http://www.cleanwaterclassic.com/" target="_blank"><font color="#0066cc"> Click Here</font></a>. For photos from previous years\, <a href="http://www.westportgrayland-chamber.org/photos_surf_contest.php"><font color="#0066cc">Click Here</font></a>.
LOCATION:Westport
UID:e.26.7633
SEQUENCE:3
DTSTAMP:20260425T200237Z
URL:https://chamber.graysharbor.org/events/details/15th-annual-clean-water-classic-7633
END:VEVENT

END:VCALENDAR
