BEGIN:VCALENDAR
VERSION:2.0
PRODID:-//ChamberMaster//Event Calendar 2.0//EN
METHOD:PUBLISH
X-PUBLISHED-TTL:P3D
REFRESH-INTERVAL:P3D
CALSCALE:GREGORIAN
BEGIN:VEVENT
DTSTART:20180922T010000Z
DTEND:20180923T210000Z
X-MICROSOFT-CDO-ALLDAYEVENT:FALSE
SUMMARY:17th Annual Clean Water Classic
DESCRIPTION:The 2018 Clean Water Classic surf contest is a full weekend of good times for the whole family. From competing or watching PNW and beyond surfers showing their game at the jetty\, to the Saturday night bash at LOGE CampsInn at the Sands featuring live bands\, food\, drinks\, silent auction\, and raffle\, it's a hoot for all ages. Make plans to attend this year and we'll see ya in Westport for another go with proceeds benefiting the PNW chapters of Surfrider.
X-ALT-DESC;FMTTYPE=text/html:<p style="box-sizing: border-box\; font-family: &quot\;Open Sans&quot\;\; font-size: 16px\; line-height: 27px\; margin: 0px 0px 20px\; color: rgb(119\, 119\, 119)\; background-color: rgb(255\, 255\, 255)\;"><span style="color: rgb(29\, 33\, 41)\; font-family: Helvetica\, Arial\, sans-serif\; font-size: 14px\; background-color: rgb(255\, 255\, 255)\;">The 2018 Clean Water Classic surf contest is a full weekend of good times for the whole family. From competing or watching PNW and beyond surfers showing their game at the jetty\, to the Saturday night bash at&nbsp\;</span><a href="https://www.facebook.com/Logecamps/" style="color: rgb(54\, 88\, 153)\; cursor: pointer\; text-decoration-line: none\; font-family: Helvetica\, Arial\, sans-serif\; font-size: 14px\; background-color: rgb(255\, 255\, 255)\;" target="_blank">LOGE Camps</a><span style="color: rgb(29\, 33\, 41)\; font-family: Helvetica\, Arial\, sans-serif\; font-size: 14px\; background-color: rgb(255\, 255\, 255)\;">Inn at the Sands featuring live bands\, food\, drinks\, silent auction\, and raffle\, it&#39\;s a hoot for all ages. Make plans to attend this year and we&#39\;ll see ya in Westport for another go with proceeds benefiting the PNW chapters of Surfrider.</span></p>\n
LOCATION:Westhaven State Park Westport\, WA
UID:e.26.11227
SEQUENCE:3
DTSTAMP:20260425T015549Z
URL:https://chamber.graysharbor.org/events/details/17th-annual-clean-water-classic-11227
END:VEVENT

END:VCALENDAR
