BEGIN:VCALENDAR
VERSION:2.0
PRODID:-//ChamberMaster//Event Calendar 2.0//EN
METHOD:PUBLISH
X-PUBLISHED-TTL:P3D
REFRESH-INTERVAL:P3D
CALSCALE:GREGORIAN
BEGIN:VEVENT
DTSTART:20180913T220000Z
DTEND:20180914T000000Z
X-MICROSOFT-CDO-ALLDAYEVENT:FALSE
SUMMARY:1968: The Year That Rocked Washington
DESCRIPTION:In 1968\, Vietnam\, civil rights\, women's liberation\, and conservation coalesced and tragedy led the 6 o'clock news. It changed us in ways still rippling a half-century later. 1968: The Year That Rocked Washington features a collection of online stories and an exhibit at the Washington State Capitol with profiles\, compelling photos\, and artifacts that document the activism and aftershocks of a landmark year in world history.
X-ALT-DESC;FMTTYPE=text/html:In 1968\, Vietnam\, civil rights\, women&rsquo\;s liberation\, and conservation coalesced&mdash\;and tragedy led the 6 o&rsquo\;clock news. It changed us in ways still rippling a half-century later. 1968: The Year That Rocked Washington features a collection of online stories and an exhibit at the Washington State Capitol with profiles\, compelling photos\, and artifacts that document the activism and aftershocks of a landmark year in world history.
LOCATION:State Reception Room Washington State Capitol 416 Sid Snyder Ave SW Olympia\, WA 98501
UID:e.26.11260
SEQUENCE:3
DTSTAMP:20260425T015700Z
URL:https://chamber.graysharbor.org/events/details/1968-the-year-that-rocked-washington-11260
END:VEVENT

END:VCALENDAR
