BEGIN:VCALENDAR
VERSION:2.0
PRODID:-//ChamberMaster//Event Calendar 2.0//EN
METHOD:PUBLISH
X-PUBLISHED-TTL:P3D
REFRESH-INTERVAL:P3D
CALSCALE:GREGORIAN
BEGIN:VEVENT
DTSTART:20180915T180000Z
DTEND:20180915T190000Z
X-MICROSOFT-CDO-ALLDAYEVENT:FALSE
SUMMARY:19th Annual Saginaw Days Logging Show
DESCRIPTION:The family-friendly show will feature a Steam Donkey Whistle demonstration\, kid's treasure hunt\, as well as a number of competitions including\; log rolling\, Ma & Pa Bucking\, ax throwing\, a tug of war\, and a "Logger's Relay".\n\nAs a note to anyone planning on attending Saginaw Days\, the event is located 16 miles from Highway 101 and 22.5 miles from the closest gas station.\n\nAdmission is free to the event.
X-ALT-DESC;FMTTYPE=text/html:<p style="background-color: transparent\; box-sizing: border-box\; color: rgb(0\, 0\, 0)\; font-family: &amp\;quot\;Roboto&amp\;quot\;\,sans-serif\; font-size: 16px\; font-style: normal\; font-variant: normal\; font-weight: 400\; letter-spacing: normal\; line-height: 26.08px\; margin-bottom: 19.2px\; margin-left: 0px\; margin-right: 0px\; margin-top: 0px\; orphans: 2\; padding-bottom: 0px\; padding-left: 0px\; padding-right: 0px\; padding-top: 0px\; text-align: left\; text-decoration: none\; text-indent: 0px\; text-transform: none\; -webkit-text-stroke-width: 0px\; white-space: normal\; word-spacing: 0px\;">The family-friendly show will feature a Steam Donkey Whistle demonstration\, kid&rsquo\;s treasure hunt\, as well as a number of competitions including\; log rolling\, Ma &amp\; Pa Bucking\, ax throwing\, a tug of war\, and a &ldquo\;Logger&rsquo\;s Relay&rdquo\;.</p>\n\n<p style="background-color: transparent\; box-sizing: border-box\; color: rgb(0\, 0\, 0)\; font-family: &amp\;quot\;Roboto&amp\;quot\;\,sans-serif\; font-size: 16px\; font-style: normal\; font-variant: normal\; font-weight: 400\; letter-spacing: normal\; line-height: 26.08px\; margin-bottom: 19.2px\; margin-left: 0px\; margin-right: 0px\; margin-top: 0px\; orphans: 2\; padding-bottom: 0px\; padding-left: 0px\; padding-right: 0px\; padding-top: 0px\; text-align: left\; text-decoration: none\; text-indent: 0px\; text-transform: none\; -webkit-text-stroke-width: 0px\; white-space: normal\; word-spacing: 0px\;">As a note to anyone planning on attending Saginaw Days\, the event is located 16 miles from Highway 101 and 22.5 miles from the closest gas station.</p>\n\n<p style="background-color: transparent\; box-sizing: border-box\; color: rgb(0\, 0\, 0)\; font-family: &amp\;quot\;Roboto&amp\;quot\;\,sans-serif\; font-size: 16px\; font-style: normal\; font-variant: normal\; font-weight: 400\; letter-spacing: normal\; line-height: 26.08px\; margin-bottom: 19.2px\; margin-left: 0px\; margin-right: 0px\; margin-top: 0px\; orphans: 2\; padding-bottom: 0px\; padding-left: 0px\; padding-right: 0px\; padding-top: 0px\; text-align: left\; text-decoration: none\; text-indent: 0px\; text-transform: none\; -webkit-text-stroke-width: 0px\; white-space: normal\; word-spacing: 0px\;">Admission is free to the event.</p>\n
LOCATION:Brooklyn\, WA
UID:e.26.11266
SEQUENCE:3
DTSTAMP:20260425T015608Z
URL:https://chamber.graysharbor.org/events/details/19th-annual-saginaw-days-logging-show-11266
END:VEVENT

END:VCALENDAR
