BEGIN:VCALENDAR
VERSION:2.0
PRODID:-//ChamberMaster//Event Calendar 2.0//EN
METHOD:PUBLISH
X-PUBLISHED-TTL:P3D
REFRESH-INTERVAL:P3D
CALSCALE:GREGORIAN
BEGIN:VEVENT
DTSTART:20181027T010000Z
DTEND:20181027T050000Z
X-MICROSOFT-CDO-ALLDAYEVENT:FALSE
SUMMARY:1st Annual Halloween Gala
DESCRIPTION:Join us for our Spooktacular 1st Annual Halloween Gala\, where there will be live and silent auction items\, heavy hors d'ouevres\, cash bars\, live music courtesy of Raucous\, and a costume contest with $1000 in prize money. \n\nTickets are $35 a person\, which can be purchased at the Chamber office located at 114 E Chance a la Mer\, Unit 100\, over the phone by calling 360-289-2451\, online by clicking the link below\, or at the door (limited tickets will be available)\n\nYou don't want to miss out!\n\n\n\n*all proceeds go to the Ocean Shores/North Beach Chamber of Commerce\n\n\n\nSpecial Thanks to our sponsors\, Shilo Inn Ocean Shores\, North Beach Realty Ocean Shores LLC\, Jeff G Daniel/John L Scott\, The Weed Shack\, and The Grey Gull\, and Martin Bruni Liquor\n\n\n\n\n\n*More sponsorship opportunities are available\, contact Piper Leslie at 360-289-2451 for more information.
X-ALT-DESC;FMTTYPE=text/html:<span style="color: rgb(29\, 33\, 41)\; font-family: Helvetica\, Arial\, sans-serif\; font-size: 14px\; background-color: rgb(255\, 255\, 255)\;">Join us for our Spooktacular 1st Annual Halloween Gala\, where there will be live and silent auction items\, heavy hors d&#39\;ouevres\, cash bars\, live music courtesy of Raucous\, and a costume contest with $1000 in prize money.&nbsp\;</span><br style="color: rgb(29\, 33\, 41)\; font-family: Helvetica\, Arial\, sans-serif\; font-size: 14px\; background-color: rgb(255\, 255\, 255)\;" />\n<span style="color: rgb(29\, 33\, 41)\; font-family: Helvetica\, Arial\, sans-serif\; font-size: 14px\; background-color: rgb(255\, 255\, 255)\;">Tickets are $35 a person\, which can be purchased at the Chamber office located at 114 E Chance a la Mer\, Unit 100\, over the phone by calling 360-289-2451\, online by clicking the link below\, or at the door (limited tickets will be available)</span><br style="color: rgb(29\, 33\, 41)\; font-family: Helvetica\, Arial\, sans-serif\; font-size: 14px\; background-color: rgb(255\, 255\, 255)\;" />\n<span style="color: rgb(29\, 33\, 41)\; font-family: Helvetica\, Arial\, sans-serif\; font-size: 14px\; background-color: rgb(255\, 255\, 255)\;">You don&#39\;t want to miss out!</span><br style="color: rgb(29\, 33\, 41)\; font-family: Helvetica\, Arial\, sans-serif\; font-size: 14px\; background-color: rgb(255\, 255\, 255)\;" />\n<br style="color: rgb(29\, 33\, 41)\; font-family: Helvetica\, Arial\, sans-serif\; font-size: 14px\; background-color: rgb(255\, 255\, 255)\;" />\n<span style="color: rgb(29\, 33\, 41)\; font-family: Helvetica\, Arial\, sans-serif\; font-size: 14px\; background-color: rgb(255\, 255\, 255)\;">*all proceeds go to the Ocean Shores/North Beach Chamber of Commerce</span><br style="color: rgb(29\, 33\, 41)\; font-family: Helvetica\, Arial\, sans-serif\; font-size: 14px\; background-color: rgb(255\, 255\, 255)\;" />\n<br style="color: rgb(29\, 33\, 41)\; font-family: Helvetica\, Arial\, sans-serif\; font-size: 14px\; background-color: rgb(255\, 255\, 255)\;" />\n<span style="color: rgb(29\, 33\, 41)\; font-family: Helvetica\, Arial\, sans-serif\; font-size: 14px\; background-color: rgb(255\, 255\, 255)\;">Special Thanks to our sponsors\, Shilo Inn Ocean Shores\, North Beach Realty Ocean Shores LLC\, Jeff G Daniel/John L Scott\, The Weed Shack\, and The Grey Gull\, and Martin Bruni Liquor</span><br style="color: rgb(29\, 33\, 41)\; font-family: Helvetica\, Arial\, sans-serif\; font-size: 14px\; background-color: rgb(255\, 255\, 255)\;" />\n<br style="color: rgb(29\, 33\, 41)\; font-family: Helvetica\, Arial\, sans-serif\; font-size: 14px\; background-color: rgb(255\, 255\, 255)\;" />\n<br style="color: rgb(29\, 33\, 41)\; font-family: Helvetica\, Arial\, sans-serif\; font-size: 14px\; background-color: rgb(255\, 255\, 255)\;" />\n<span style="color: rgb(29\, 33\, 41)\; font-family: Helvetica\, Arial\, sans-serif\; font-size: 14px\; background-color: rgb(255\, 255\, 255)\;">*More sponsorship opportunities are available\, contact Piper Leslie at 360-289-2451 for more information.</span>
LOCATION:pin Shilo Inn Ocean Shores 707 Ocean Shores Blvd NW\, Ocean Shores\, Washington 98569
UID:e.26.11222
SEQUENCE:3
DTSTAMP:20260425T001949Z
URL:https://chamber.graysharbor.org/events/details/1st-annual-halloween-gala-11222
END:VEVENT

END:VCALENDAR
