BEGIN:VCALENDAR
VERSION:2.0
PRODID:-//ChamberMaster//Event Calendar 2.0//EN
METHOD:PUBLISH
X-PUBLISHED-TTL:P3D
REFRESH-INTERVAL:P3D
CALSCALE:GREGORIAN
BEGIN:VEVENT
DTSTART;VALUE=DATE:20170602
DTEND;VALUE=DATE:20170605
TRANSP:TRANSPARENT
X-MICROSOFT-CDO-ALLDAYEVENT:TRUE
SUMMARY:2017 Westcoast Surf Riders Invitational
DESCRIPTION:4th Annual Westcoast Surfriders Invitiational. This is an informal hangout / freeride put together by the westcoast surfriders group of riders.\n\nWe've extended the length because some like to make a full weekend out of it. The main ride day will be Saturday the 3rd all day followed by a hang out and bonfire. The after party hang out location will be at the Grayland Hall http://www.graylandcommunityhall.org/contact-us-sp-1562253278\n\nI've rented the Hall grounds for the weekend. Camping price will be $20 for the weekend. There are limited power hook ups but no ther RV hook ups. Plenty of room for everyone at the Grayland Hall grounds.\n\n\n\nPlease feel free to invite all your riding buddies.\n\nI'll bring a sound system to have music on the beach on Sat. feel free to bring BBQ and some grub and we'll all eat\, drink\, ride and hang out. Make your plans now and mark your calandars. This get together is always a good time!!\n\n\n\nWe'll likely be doing some type of fundraiser during the event. Details to come as we get closer to event time.
X-ALT-DESC;FMTTYPE=text/html:<span class="_4n-j _3cht fsl">4th Annual Westcoast Surfriders Invitiational. This is an informal hangout / freeride put together by the westcoast surfriders group of riders.<br />\nWe&#39\;ve extended the length because some like to make a full weekend out of it. The main ride day will be Saturday the 3rd all day followed by a hang out and bonfire. The after party hang out location will be at the Grayland Hall <a href="http://www.graylandcommunityhall.org/contact-us-sp-1562253278" rel="nofollow nofollow" target="_blank"><font color="#0066cc"><span>http://</span><wbr /><span>www.graylandcommunityhall.o</span><wbr /><span>rg/</span><wbr /></font><font color="#0066cc">contact-us-sp-1562253278</font></a><br />\nI&#39\;ve rented the Hall grounds for the weekend. Camping price will be $20 for the weekend. There are limited power hook ups but no ther RV hook ups. Plenty of room for everyone at the Grayland Hall grounds.<br />\n<br />\nPlease feel free to invite all your riding buddies.<br />\nI&#39\;ll bring a sound system to have music on the beach on Sat. feel free to bring BBQ and some grub and we&#39\;ll all eat\, drink\, ride and hang out. Make your plans now and mark your calandars. This get together is always a good time!!<br />\n<br />\nWe&#39\;ll likely be doing some type of fundraiser during the event. Details to come as we get closer to event time.</span>
LOCATION:Grayland Beach Westport\, WA
UID:e.26.6501
SEQUENCE:3
DTSTAMP:20260426T015326Z
URL:https://chamber.graysharbor.org/events/details/2017-westcoast-surf-riders-invitational-6501
END:VEVENT

END:VCALENDAR
