BEGIN:VCALENDAR
VERSION:2.0
PRODID:-//ChamberMaster//Event Calendar 2.0//EN
METHOD:PUBLISH
X-PUBLISHED-TTL:P3D
REFRESH-INTERVAL:P3D
CALSCALE:GREGORIAN
BEGIN:VEVENT
DTSTART:20181021T010000Z
DTEND:20181021T050000Z
X-MICROSOFT-CDO-ALLDAYEVENT:FALSE
SUMMARY:2018 Harborite of the Year Dinner
DESCRIPTION:Join us in celebrating Harbor historian John Larson! He has done so much for the community as the Director of the Polson Museum\, and we are showing him how much he means to all of us!\n\n\n\nTickets are available at the Friends of the Aberdeen Museum office at 200 W. Market (On the K St. side\, near the Post office) City Drug in Aberdeen\, and Harbor Drug in Hoquiam
X-ALT-DESC;FMTTYPE=text/html:<span style="display: inline !important\; float: none\; background-color: transparent\; color: rgb(29\, 33\, 41)\; font-family: Helvetica\,Arial\,sans-serif\; font-size: 14px\; font-style: normal\; font-variant: normal\; font-weight: 400\; letter-spacing: normal\; orphans: 2\; text-align: left\; text-decoration: none\; text-indent: 0px\; text-transform: none\; -webkit-text-stroke-width: 0px\; white-space: normal\; word-spacing: 0px\;">Join us in celebrating Harbor historian John Larson! He has done so much for the community as the Director of the Polson Museum\, and we are showing him how much he means to all of us!</span><br style="background-color: transparent\; color: rgb(29\, 33\, 41)\; font-family: Helvetica\,Arial\,sans-serif\; font-size: 14px\; font-style: normal\; font-variant: normal\; font-weight: 400\; letter-spacing: normal\; orphans: 2\; text-align: left\; text-decoration: none\; text-indent: 0px\; text-transform: none\; -webkit-text-stroke-width: 0px\; white-space: normal\; word-spacing: 0px\;" />\n<br style="background-color: transparent\; color: rgb(29\, 33\, 41)\; font-family: Helvetica\,Arial\,sans-serif\; font-size: 14px\; font-style: normal\; font-variant: normal\; font-weight: 400\; letter-spacing: normal\; orphans: 2\; text-align: left\; text-decoration: none\; text-indent: 0px\; text-transform: none\; -webkit-text-stroke-width: 0px\; white-space: normal\; word-spacing: 0px\;" />\n<span style="display: inline !important\; float: none\; background-color: transparent\; color: rgb(29\, 33\, 41)\; font-family: Helvetica\,Arial\,sans-serif\; font-size: 14px\; font-style: normal\; font-variant: normal\; font-weight: 400\; letter-spacing: normal\; orphans: 2\; text-align: left\; text-decoration: none\; text-indent: 0px\; text-transform: none\; -webkit-text-stroke-width: 0px\; white-space: normal\; word-spacing: 0px\;">Tickets are available at the Friends of the Aberdeen Museum office at 200 W. Market (On the K St. side\, near the Post office) City Drug in Aberdeen\, and Harbor Drug in Hoquiam</span>
LOCATION:Rotary Log Pavilion 1401 Sargent Blvd. Aberdeen\, WA
UID:e.26.11279
SEQUENCE:3
DTSTAMP:20260425T002103Z
URL:https://chamber.graysharbor.org/events/details/2018-harborite-of-the-year-dinner-11279
END:VEVENT

END:VCALENDAR
