BEGIN:VCALENDAR
VERSION:2.0
PRODID:-//ChamberMaster//Event Calendar 2.0//EN
METHOD:PUBLISH
X-PUBLISHED-TTL:P3D
REFRESH-INTERVAL:P3D
CALSCALE:GREGORIAN
BEGIN:VEVENT
DTSTART:20180101T030000Z
DTEND:20180101T070000Z
X-MICROSOFT-CDO-ALLDAYEVENT:FALSE
SUMMARY:2018 New Years Party (Open to Public) Elks Membership Drive
DESCRIPTION:$7 Cover Charge\, 21+ with valid ID\n\n\n\nEntertainment provided by Mystic Sound & Lighting and venue provided by Aberdeen Elks #593 for Membership Drive!
X-ALT-DESC;FMTTYPE=text/html:<span style="color: rgb(75\, 79\, 86)\; font-family: Helvetica\, Arial\, sans-serif\; font-size: 14px\; background-color: rgb(255\, 255\, 255)\;">$7 Cover Charge\, 21+ with valid ID</span><br style="color: rgb(75\, 79\, 86)\; font-family: Helvetica\, Arial\, sans-serif\; font-size: 14px\; background-color: rgb(255\, 255\, 255)\;" />\n<br style="color: rgb(75\, 79\, 86)\; font-family: Helvetica\, Arial\, sans-serif\; font-size: 14px\; background-color: rgb(255\, 255\, 255)\;" />\n<span style="color: rgb(75\, 79\, 86)\; font-family: Helvetica\, Arial\, sans-serif\; font-size: 14px\; background-color: rgb(255\, 255\, 255)\;">Entertainment provided by Mystic Sound &amp\; Lighting and venue provided by Aberdeen Elks #593 for Membership Drive!</span>
LOCATION:Aberdeen Elks 1712 S Boone St. Aberdeen\, WA
UID:e.26.8381
SEQUENCE:3
DTSTAMP:20260425T164210Z
URL:https://chamber.graysharbor.org/events/details/2018-new-years-party-open-to-public-elks-membership-drive-8381
END:VEVENT

END:VCALENDAR
