BEGIN:VCALENDAR
VERSION:2.0
PRODID:-//ChamberMaster//Event Calendar 2.0//EN
METHOD:PUBLISH
X-PUBLISHED-TTL:P3D
REFRESH-INTERVAL:P3D
CALSCALE:GREGORIAN
BEGIN:VEVENT
DTSTART:20190519T160000Z
DTEND:20190519T190000Z
X-MICROSOFT-CDO-ALLDAYEVENT:FALSE
SUMMARY:2019 Golf Tournament
DESCRIPTION:The Horse Prayer will be holding it's second annual Golf Tournament at the beautiful Highland's Golf Course. Gather your team and get those clubs ready... it is tourney time!
X-ALT-DESC;FMTTYPE=text/html:<span style="caret-color: rgb(29\, 33\, 41)\; color: rgb(29\, 33\, 41)\; font-family: system-ui\, -apple-system\, BlinkMacSystemFont\, &quot\;.SFNSText-Regular&quot\;\, sans-serif\; font-size: 14px\; white-space: pre-wrap\;">The Horse Prayer will be holding it&#39\;s second annual Golf Tournament at the beautiful Highland&#39\;s Golf Course. Gather your team and get those clubs ready... it is tourney time!</span>
LOCATION:pin Highland Golf Course 2200 1st St\, Cosmopolis\, Washington 98537
UID:e.26.12010
SEQUENCE:3
DTSTAMP:20260424T150306Z
URL:https://chamber.graysharbor.org/events/details/2019-golf-tournament-12010
END:VEVENT

END:VCALENDAR
