BEGIN:VCALENDAR
VERSION:2.0
PRODID:-//ChamberMaster//Event Calendar 2.0//EN
METHOD:PUBLISH
X-PUBLISHED-TTL:P3D
REFRESH-INTERVAL:P3D
CALSCALE:GREGORIAN
BEGIN:VEVENT
DTSTART:20190112T170000Z
DTEND:20190112T200000Z
X-MICROSOFT-CDO-ALLDAYEVENT:FALSE
SUMMARY:2019 Grays Harbor Relay for Life KICKOFF
DESCRIPTION:Please join us at the D&R event center\, on 01/12/2019 at 9:00 A.M.\n\nThis year's Kickoff will be a workshop! We will announce the 2019 theme that was voted on at the 11/7/2018 Team Rally. We hope this will be an informative\, hands on event.\n\n\n\nEmail us at\, Trileads@ghrfl.com or candi@ghrfl.com with any questions or concerns. \n\n#GHRFL2019
X-ALT-DESC;FMTTYPE=text/html:<span style="caret-color: rgb(29\, 33\, 41)\; color: rgb(29\, 33\, 41)\; font-family: system-ui\, -apple-system\, BlinkMacSystemFont\, &quot\;.SFNSText-Regular&quot\;\, sans-serif\; font-size: 14px\; background-color: rgb(255\, 255\, 255)\;">Please join us at the D&amp\;R event center\, on 01/12/2019 at 9:00 A.M.<br />\nThis year&#39\;s Kickoff will be a workshop! We will announce the 2019 theme that was voted on at the 11/7/2018 Team Rally. We hope this will be an informative\, hands on event.</span><br style="caret-color: rgb(29\, 33\, 41)\; color: rgb(29\, 33\, 41)\; font-family: system-ui\, -apple-system\, BlinkMacSystemFont\, &quot\;.SFNSText-Regular&quot\;\, sans-serif\; font-size: 14px\;" />\n<br style="caret-color: rgb(29\, 33\, 41)\; color: rgb(29\, 33\, 41)\; font-family: system-ui\, -apple-system\, BlinkMacSystemFont\, &quot\;.SFNSText-Regular&quot\;\, sans-serif\; font-size: 14px\;" />\n<span style="caret-color: rgb(29\, 33\, 41)\; color: rgb(29\, 33\, 41)\; font-family: system-ui\, -apple-system\, BlinkMacSystemFont\, &quot\;.SFNSText-Regular&quot\;\, sans-serif\; font-size: 14px\; background-color: rgb(255\, 255\, 255)\;">Email us at\, Trileads@ghrfl.com or candi@ghrfl.com with any questions or concerns.&nbsp\;</span><br style="caret-color: rgb(29\, 33\, 41)\; color: rgb(29\, 33\, 41)\; font-family: system-ui\, -apple-system\, BlinkMacSystemFont\, &quot\;.SFNSText-Regular&quot\;\, sans-serif\; font-size: 14px\;" />\n<a href="https://www.facebook.com/hashtag/ghrfl2019" style="color: rgb(54\, 88\, 153)\; cursor: pointer\; text-decoration: none\; font-family: system-ui\, -apple-system\, BlinkMacSystemFont\, &quot\;.SFNSText-Regular&quot\;\, sans-serif\; font-size: 14px\;" target="_blank">#GHRFL2019</a>
LOCATION:pin D & R Event Center 122 E Heron St\, Aberdeen\, Washington 98520
UID:e.26.11398
SEQUENCE:3
DTSTAMP:20260424T194447Z
URL:https://chamber.graysharbor.org/events/details/2019-grays-harbor-relay-for-life-kickoff-11398
END:VEVENT

END:VCALENDAR
