BEGIN:VCALENDAR
VERSION:2.0
PRODID:-//ChamberMaster//Event Calendar 2.0//EN
METHOD:PUBLISH
X-PUBLISHED-TTL:P3D
REFRESH-INTERVAL:P3D
CALSCALE:GREGORIAN
BEGIN:VEVENT
DTSTART:20190601T110000Z
DTEND:20190602T060000Z
X-MICROSOFT-CDO-ALLDAYEVENT:FALSE
SUMMARY:2019 Regence Hood To Coast Washington
DESCRIPTION:Hood To Coast Washington is back in 2019 and will span 75 miles through the Evergreen State beginning and ending at Seabrook\, WA a beach town on the beautiful Pacific Ocean. This one-day\, one-van\, six-member race features all the sought after aspects of the original Hood To Coast Relay in Oregon. However\, some things will be different. No sleeping fields\, no major exchanges\, no running in the middle of the night\, and no need to take Friday off work.\n\n\n\nTeams of six will run 75 miles with each participant completing two legs along the 12-leg race course\; walking teams of 4-6 will trek 53 miles along an eight-leg course. Racers will experience the beauty of western Washington as each leg showcases something special\, like scenic waterways\, the serene forests\, and the Pacific Ocean. This event will be capped at 350 teams.\n\n\n\nHood To Coast Washington will be a primarily flat\, fast\, and friendly journey with a loop course starting and ending at the state's best kept secret the coastal community of Seabrook\, located on the Pacific Ocean.
X-ALT-DESC;FMTTYPE=text/html:<span style="caret-color: rgb(29\, 33\, 41)\; color: rgb(29\, 33\, 41)\; font-family: system-ui\, -apple-system\, BlinkMacSystemFont\, &quot\;.SFNSText-Regular&quot\;\, sans-serif\; font-size: 14px\; background-color: rgb(255\, 255\, 255)\;">Hood To Coast Washington is back in 2019 and will span 75 miles through the Evergreen State beginning and ending at Seabrook\, WA a beach town on the beautiful Pacific Ocean. This one-day\, one-van\, six-member race features all the sought after aspects of the original Hood To Coast Relay in Oregon. However\, some things will be different. No sleeping fields\, no major exchanges\, no running in the middle of the night\, and no need to take Friday off work.</span><br style="caret-color: rgb(29\, 33\, 41)\; color: rgb(29\, 33\, 41)\; font-family: system-ui\, -apple-system\, BlinkMacSystemFont\, &quot\;.SFNSText-Regular&quot\;\, sans-serif\; font-size: 14px\;" />\n<br style="caret-color: rgb(29\, 33\, 41)\; color: rgb(29\, 33\, 41)\; font-family: system-ui\, -apple-system\, BlinkMacSystemFont\, &quot\;.SFNSText-Regular&quot\;\, sans-serif\; font-size: 14px\;" />\n<span style="caret-color: rgb(29\, 33\, 41)\; color: rgb(29\, 33\, 41)\; font-family: system-ui\, -apple-system\, BlinkMacSystemFont\, &quot\;.SFNSText-Regular&quot\;\, sans-serif\; font-size: 14px\; background-color: rgb(255\, 255\, 255)\;">Teams of six will run 75 miles with each participant completing two legs along the 12-leg race course\; walking teams of 4-6 will trek 53 miles along an eight-leg course. Racers will experience the beauty of western Washington as each leg showcases something special\, like scenic waterways\, the serene forests\, and the Pacific Ocean. This event will be capped at 350 teams.</span><br style="caret-color: rgb(29\, 33\, 41)\; color: rgb(29\, 33\, 41)\; font-family: system-ui\, -apple-system\, BlinkMacSystemFont\, &quot\;.SFNSText-Regular&quot\;\, sans-serif\; font-size: 14px\;" />\n<br style="caret-color: rgb(29\, 33\, 41)\; color: rgb(29\, 33\, 41)\; font-family: system-ui\, -apple-system\, BlinkMacSystemFont\, &quot\;.SFNSText-Regular&quot\;\, sans-serif\; font-size: 14px\;" />\n<span style="caret-color: rgb(29\, 33\, 41)\; color: rgb(29\, 33\, 41)\; font-family: system-ui\, -apple-system\, BlinkMacSystemFont\, &quot\;.SFNSText-Regular&quot\;\, sans-serif\; font-size: 14px\; background-color: rgb(255\, 255\, 255)\;">Hood To Coast Washington will be a primarily flat\, fast\, and friendly journey with a loop course starting and ending at the state&rsquo\;s best kept secret&mdash\;the coastal community of Seabrook\, located on the Pacific Ocean.</span>
LOCATION:Seabrook Washington
UID:e.26.11390
SEQUENCE:3
DTSTAMP:20260424T133029Z
URL:https://chamber.graysharbor.org/events/details/2019-regence-hood-to-coast-washington-11390
END:VEVENT

END:VCALENDAR
