BEGIN:VCALENDAR
VERSION:2.0
PRODID:-//ChamberMaster//Event Calendar 2.0//EN
METHOD:PUBLISH
X-PUBLISHED-TTL:P3D
REFRESH-INTERVAL:P3D
CALSCALE:GREGORIAN
BEGIN:VEVENT
DTSTART:20190126T180000Z
DTEND:20190126T220000Z
X-MICROSOFT-CDO-ALLDAYEVENT:FALSE
SUMMARY:2019 Rock Your Health Fair
DESCRIPTION:At the 2019 Rock Your Health Fair there's plenty to do and learn about for you and your family! This free event will offer: blood pressure checks\, games\, nutritional information\, bicycle rodeo\, information on skin care and healthy aging\, acupuntcure and so much more.\n\n\n\nThe Aberdeen Police Department and Aberdeen Fire Department will be providing a Bicycle Safety Rodeo for kids. Bring your little ones along with their bikes and helmets and learn how to be safe when they're riding!\n\n\n\nAttendees who visit all the exhibitors and turn in their PassPorts go into the raffle drawing. \n\n\n\nInvite your friends and come out to the Shoppes at Riverside!
X-ALT-DESC;FMTTYPE=text/html:<span style="font-size:14px\;"><span style="font-family:arial\;">At the 2019 Rock Your Health Fair there&#39\;s plenty to do and learn about for you and your family! This free event will offer: blood pressure checks\, games\, nutritional information\, bicycle rodeo\, information on skin care and healthy aging\, acupuntcure and so much more.<br />\n<br />\n<span style="caret-color: rgb(34\, 34\, 34)\; color: rgb(34\, 34\, 34)\; background-color: rgb(255\, 255\, 255)\;">The Aberdeen Police Department and Aberdeen Fire Department will be providing a Bicycle Safety Rodeo for kids. Bring your little ones along with their bikes and helmets and learn how to be safe when they&#39\;re riding!<br />\n<br />\nAttendees who visit all the exhibitors and turn in their PassPorts go into the raffle drawing.&nbsp\;<br />\n<br />\nInvite your friends and come out to the Shoppes at Riverside!</span></span></span>
LOCATION:Shoppes at Riverside Aberdeen\, WA
UID:e.26.11714
SEQUENCE:3
DTSTAMP:20260424T194453Z
URL:https://chamber.graysharbor.org/events/details/2019-rock-your-health-fair-11714
END:VEVENT

END:VCALENDAR
