BEGIN:VCALENDAR
VERSION:2.0
PRODID:-//ChamberMaster//Event Calendar 2.0//EN
METHOD:PUBLISH
X-PUBLISHED-TTL:P3D
REFRESH-INTERVAL:P3D
CALSCALE:GREGORIAN
BEGIN:VEVENT
DTSTART:20200314T190000Z
DTEND:20200315T010000Z
X-MICROSOFT-CDO-ALLDAYEVENT:FALSE
SUMMARY:2020 Ocosta Booster Crab Feed
DESCRIPTION:Come support Wildcat scholarships & athletics!\n\n\n\nDinner includes all you can eat DUNGENESS CRAB\, spaghetti\, garlic bread & cole slaw. Beverages available for sale. Credit cards accepted.
X-ALT-DESC;FMTTYPE=text/html:<span style="caret-color: rgb(29\, 33\, 41)\; color: rgb(29\, 33\, 41)\; font-family: system-ui\, -apple-system\, BlinkMacSystemFont\, &quot\;.SFNSText-Regular&quot\;\, sans-serif\; font-size: 14px\; white-space: pre-wrap\;">Come support Wildcat scholarships &amp\; athletics!</span><br style="caret-color: rgb(29\, 33\, 41)\; color: rgb(29\, 33\, 41)\; font-family: system-ui\, -apple-system\, BlinkMacSystemFont\, &quot\;.SFNSText-Regular&quot\;\, sans-serif\; font-size: 14px\; white-space: pre-wrap\;" />\n<br style="caret-color: rgb(29\, 33\, 41)\; color: rgb(29\, 33\, 41)\; font-family: system-ui\, -apple-system\, BlinkMacSystemFont\, &quot\;.SFNSText-Regular&quot\;\, sans-serif\; font-size: 14px\; white-space: pre-wrap\;" />\n<span style="caret-color: rgb(29\, 33\, 41)\; color: rgb(29\, 33\, 41)\; font-family: system-ui\, -apple-system\, BlinkMacSystemFont\, &quot\;.SFNSText-Regular&quot\;\, sans-serif\; font-size: 14px\; white-space: pre-wrap\;">Dinner includes all you can eat DUNGENESS CRAB\, spaghetti\, garlic bread &amp\; cole slaw. Beverages available for sale. Credit cards accepted. </span>
LOCATION:pin Ocosta Recreation Hall 45 Ocosta Sixth St\, Aberdeen\, Washington 98520
UID:e.26.12424
SEQUENCE:3
DTSTAMP:20260424T074612Z
URL:https://chamber.graysharbor.org/events/details/2020-ocosta-booster-crab-feed-12424
END:VEVENT

END:VCALENDAR
