BEGIN:VCALENDAR
VERSION:2.0
PRODID:-//ChamberMaster//Event Calendar 2.0//EN
METHOD:PUBLISH
X-PUBLISHED-TTL:P3D
REFRESH-INTERVAL:P3D
CALSCALE:GREGORIAN
BEGIN:VEVENT
DTSTART;VALUE=DATE:20170715
DTEND;VALUE=DATE:20170716
TRANSP:TRANSPARENT
X-MICROSOFT-CDO-ALLDAYEVENT:TRUE
SUMMARY:20th Annual Garden Tour
DESCRIPTION:Visit private gardens to learn local tips and practices for maintain your own garden.
X-ALT-DESC;FMTTYPE=text/html:Visit private gardens to learn local tips and practices for maintain your own garden.
LOCATION:East County\, Grays Harbor
UID:e.26.7598
SEQUENCE:3
DTSTAMP:20260426T003152Z
URL:https://chamber.graysharbor.org/events/details/20th-annual-garden-tour-7598
END:VEVENT

END:VCALENDAR
