BEGIN:VCALENDAR
VERSION:2.0
PRODID:-//ChamberMaster//Event Calendar 2.0//EN
METHOD:PUBLISH
X-PUBLISHED-TTL:P3D
REFRESH-INTERVAL:P3D
CALSCALE:GREGORIAN
BEGIN:VEVENT
DTSTART:20171104T010000Z
DTEND:20171104T030000Z
X-MICROSOFT-CDO-ALLDAYEVENT:FALSE
SUMMARY:25th Annual Fall Gala
DESCRIPTION:The John Spellman Library at Grays Harbor College invites you to enjoy the opening reception for works of 24 Premier artists of Grays Harbor Gallery Hours Monday - Wednesday | 7:30 am - 8:00 pm Thursday | 7:30 am - 6:00 pm Friday | 7:30 am - 4:30 pm Saturday | 10:00 am - 3:00 pm
X-ALT-DESC;FMTTYPE=text/html:The John Spellman Library at Grays Harbor College invites you to enjoy the opening reception for works of 24 Premier artists of Grays Harbor Gallery Hours Monday - Wednesday | 7:30 am - 8:00 pm Thursday | 7:30 am - 6:00 pm Friday | 7:30 am - 4:30 pm Saturday | 10:00 am - 3:00 pm
LOCATION:The John Spellman Library at Grays Harbor College
UID:e.26.8309
SEQUENCE:3
DTSTAMP:20260425T181005Z
URL:https://chamber.graysharbor.org/events/details/25th-annual-fall-gala-8309
END:VEVENT

END:VCALENDAR
