BEGIN:VCALENDAR
VERSION:2.0
PRODID:-//ChamberMaster//Event Calendar 2.0//EN
METHOD:PUBLISH
X-PUBLISHED-TTL:P3D
REFRESH-INTERVAL:P3D
CALSCALE:GREGORIAN
BEGIN:VEVENT
DTSTART:20190521T223000Z
DTEND:20190521T233000Z
X-MICROSOFT-CDO-ALLDAYEVENT:FALSE
SUMMARY:28th Street Boat Launch Ribbon Cutting
DESCRIPTION:The Port of Grays Harbor invites the public to celebrate the newly renovated 28th Street Boat Launch in Hoquiam! GGHI will be there to help commemorate this special occasion with them on Tuesday\, May 21st at 3:30 pm. This event will also be for the Hungry Lunceford Plaque Recognition. We hope to see you there!
X-ALT-DESC;FMTTYPE=text/html:<span style="caret-color: rgb(34\, 34\, 34)\; color: rgb(34\, 34\, 34)\; font-family: Arial\, Helvetica\, sans-serif\; font-size: small\;">The Port of Grays Harbor invites the public to celebrate&nbsp\;the newly renovated 28</span><sup style="caret-color: rgb(34\, 34\, 34)\; color: rgb(34\, 34\, 34)\; font-family: Arial\, Helvetica\, sans-serif\;">th</sup><span style="caret-color: rgb(34\, 34\, 34)\; color: rgb(34\, 34\, 34)\; font-family: Arial\, Helvetica\, sans-serif\; font-size: small\;">&nbsp\;Street Boat Launch in Hoquiam! GGHI will be there to help commemorate t</span><span style="caret-color: rgb(34\, 34\, 34)\; color: rgb(34\, 34\, 34)\; font-family: Arial\, Helvetica\, sans-serif\; font-size: small\;">his special occasion with them on&nbsp\;</span><span style="caret-color: rgb(34\, 34\, 34)\; color: rgb(34\, 34\, 34)\; font-family: Arial\, Helvetica\, sans-serif\; font-size: small\;">Tuesday\, May 21</span><sup style="caret-color: rgb(34\, 34\, 34)\; color: rgb(34\, 34\, 34)\; font-family: Arial\, Helvetica\, sans-serif\;">st</sup><span style="caret-color: rgb(34\, 34\, 34)\; color: rgb(34\, 34\, 34)\; font-family: Arial\, Helvetica\, sans-serif\; font-size: small\;">&nbsp\;at 3:30 pm. This event will also be for the Hungry Lunceford Plaque Recognition. We hope to see you there!&nbsp\;</span>
LOCATION:28th Street Boat Launch Hoquiam\, WA
UID:e.26.12001
SEQUENCE:3
DTSTAMP:20260424T132908Z
URL:https://chamber.graysharbor.org/events/details/28th-street-boat-launch-ribbon-cutting-12001
END:VEVENT

END:VCALENDAR
