BEGIN:VCALENDAR
VERSION:2.0
PRODID:-//ChamberMaster//Event Calendar 2.0//EN
METHOD:PUBLISH
X-PUBLISHED-TTL:P3D
REFRESH-INTERVAL:P3D
CALSCALE:GREGORIAN
BEGIN:VEVENT
DTSTART:20180331T210000Z
DTEND:20180401T000000Z
X-MICROSOFT-CDO-ALLDAYEVENT:FALSE
SUMMARY:2nd Annual Easter Egg Coloring Party
DESCRIPTION:2nd Annual Easter Egg Coloring Party\nBring in your hard boiled eggs for a fun afternoon of egg coloring! There will be different stations set up to try a variety of decorating techniques. All kids will be entered into door prize drawings. Open to the public. Fun for the whole family.
X-ALT-DESC;FMTTYPE=text/html:<h1 class="_5gmx" data-testid="event-permalink-event-name" id="seo_h1_tag" style="color: rgb(29\, 33\, 41)\; font-size: 20px\; margin: 0px 12px 0px 0px\; padding: 0px\; font-weight: normal\; line-height: 28px\; font-family: Helvetica\, Arial\, sans-serif\; background-color: rgb(255\, 255\, 255)\;">2nd Annual Easter Egg Coloring Party</h1>\n<span style="color: rgb(75\, 79\, 86)\; font-family: Helvetica\, Arial\, sans-serif\; font-size: 14px\; background-color: rgb(255\, 255\, 255)\;">Bring in your hard boiled eggs for a fun afternoon of egg coloring! There will be different stations set up to try a variety of decorating techniques. All kids will be entered into door prize drawings. Open to the public. Fun for the whole family.</span>
LOCATION:pin Aberdeen American Legion. 112 W 1st St\, Aberdeen\, Washington 98520
UID:e.26.10592
SEQUENCE:3
DTSTAMP:20260425T113205Z
URL:https://chamber.graysharbor.org/events/details/2nd-annual-easter-egg-coloring-party-10592
END:VEVENT

END:VCALENDAR
