BEGIN:VCALENDAR
VERSION:2.0
PRODID:-//ChamberMaster//Event Calendar 2.0//EN
METHOD:PUBLISH
X-PUBLISHED-TTL:P3D
REFRESH-INTERVAL:P3D
CALSCALE:GREGORIAN
BEGIN:VEVENT
DTSTART:20171125T180000Z
DTEND:20171126T000000Z
X-MICROSOFT-CDO-ALLDAYEVENT:FALSE
SUMMARY:2nd Annual Holiday Shoppe
DESCRIPTION:2nd Annual Holiday Shoppe fundraiser for the Ronni Dhooghe Memorial Scholarship. There will be LOTS of local vendors selling products\, homemade goods\, and items--perfect for the holidays! \n\nIf you would like to be a vendor--please contact Jamie Dunn at 360-589-4610 or jjdunn1976@gmail.com.
X-ALT-DESC;FMTTYPE=text/html:<span style="color: rgb(75\, 79\, 86)\; font-family: Helvetica\, Arial\, sans-serif\; font-size: 14px\; background-color: rgb(255\, 255\, 255)\;">2nd Annual Holiday Shoppe fundraiser for the Ronni Dhooghe Memorial Scholarship. There will be LOTS of local vendors selling products\, homemade goods\, and items--perfect for the holidays!&nbsp\;</span><br style="color: rgb(75\, 79\, 86)\; font-family: Helvetica\, Arial\, sans-serif\; font-size: 14px\; background-color: rgb(255\, 255\, 255)\;" />\n<span style="color: rgb(75\, 79\, 86)\; font-family: Helvetica\, Arial\, sans-serif\; font-size: 14px\; background-color: rgb(255\, 255\, 255)\;">If you would like to be a vendor--please contact Jamie Dunn at 360-589-4610 or jjdunn1976@gmail.com.</span>
LOCATION:Polson Museum 1611 Riverside Ave. Hoquiam\, WA
UID:e.26.8340
SEQUENCE:3
DTSTAMP:20260425T181301Z
URL:https://chamber.graysharbor.org/events/details/2nd-annual-holiday-shoppe-8340
END:VEVENT

END:VCALENDAR
