BEGIN:VCALENDAR
VERSION:2.0
PRODID:-//ChamberMaster//Event Calendar 2.0//EN
METHOD:PUBLISH
X-PUBLISHED-TTL:P3D
REFRESH-INTERVAL:P3D
CALSCALE:GREGORIAN
BEGIN:VEVENT
DTSTART:20170519T190000Z
DTEND:20170520T190000Z
X-MICROSOFT-CDO-ALLDAYEVENT:FALSE
SUMMARY:3 Grands
DESCRIPTION:Benefit concert for Aberdeen Lions Club\, featuring award-winning blind pianists Mac Potts\, Nick Baker & Brent Gjerve & jazz vocalist\, Darcy Schmitt
X-ALT-DESC;FMTTYPE=text/html:Benefit concert for Aberdeen Lions Club\, featuring award-winning blind pianists Mac Potts\, Nick Baker &amp\; Brent Gjerve &amp\; jazz vocalist\, Darcy Schmitt
LOCATION:Bishop Center for Performing Arts Grays Harbor College
UID:e.26.7706
SEQUENCE:3
DTSTAMP:20260426T032459Z
URL:https://chamber.graysharbor.org/events/details/3-grands-7706
END:VEVENT

END:VCALENDAR
