BEGIN:VCALENDAR
VERSION:2.0
PRODID:-//ChamberMaster//Event Calendar 2.0//EN
METHOD:PUBLISH
X-PUBLISHED-TTL:P3D
REFRESH-INTERVAL:P3D
CALSCALE:GREGORIAN
BEGIN:VEVENT
DTSTART;VALUE=DATE:20170707
DTEND;VALUE=DATE:20170710
TRANSP:TRANSPARENT
X-MICROSOFT-CDO-ALLDAYEVENT:TRUE
SUMMARY:3-Person Scramble Golf Tournament
DESCRIPTION:20th Annual GH Community Hospital Foundation Benefit 3-Person Scramble Golf Tournament\n\nPlease complete entry form and return with check payable to Brian Davis\, Pro.\n\nSponsored by: Bank of the Pacific
X-ALT-DESC;FMTTYPE=text/html:<span style="font-size: 14px\;"><strong>20th Annual GH Community Hospital Foundation Benefit 3-Person Scramble Golf Tournament</strong><br />\nPlease complete entry form and return with check payable to Brian Davis\, Pro.<br />\n<u>Sponsored by: Bank of the Pacific</u></span><br />\n&nbsp\;
LOCATION:Grays Harbor Country Club 5300 Central Park Drive Aberdeen\, WA
UID:e.26.7709
SEQUENCE:3
DTSTAMP:20260426T015555Z
URL:https://chamber.graysharbor.org/events/details/3-person-scramble-golf-tournament-7709
END:VEVENT

END:VCALENDAR
