BEGIN:VCALENDAR
VERSION:2.0
PRODID:-//ChamberMaster//Event Calendar 2.0//EN
METHOD:PUBLISH
X-PUBLISHED-TTL:P3D
REFRESH-INTERVAL:P3D
CALSCALE:GREGORIAN
BEGIN:VEVENT
DTSTART;VALUE=DATE:20180914
DTEND;VALUE=DATE:20180917
TRANSP:TRANSPARENT
X-MICROSOFT-CDO-ALLDAYEVENT:TRUE
SUMMARY:30 Miles of Junque
DESCRIPTION:21st Annual 30 Miles of Junque! Biggest and oldest community garage sale on the PNW coast. Find your coastal treasures from Tokeland to Westport to Ocosta! \n\n\n\nSign up with the Chamber to host a sale\, just $20 to get on the MAP!\n\n\n\nBook your lodging at one of our awesome Chamber Members www.cometowestport.com
X-ALT-DESC;FMTTYPE=text/html:<div class="_63eu" style="box-sizing: border-box\; font-size: 14px\; max-height: 260px\; overflow: hidden\; padding: 12px\; word-wrap: break-word\; font-family: Helvetica\, Arial\, sans-serif\; color: rgb(29\, 33\, 41)\; background-color: rgb(255\, 255\, 255)\;">\n<div class="_63ew" data-testid="event-permalink-details" style="font-family: inherit\;"><span style="font-family: inherit\;">21st Annual 30 Miles of Junque! Biggest and oldest community garage sale on the PNW coast. Find your coastal treasures from Tokeland to Westport to Ocosta!&nbsp\;<br />\n<br />\nSign up with the Chamber to host a sale\, just $20 to get on the MAP!<br />\n<br />\nBook your lodging at one of our awesome Chamber Members&nbsp\;<a data-lynx-mode="hover" href="https://l.facebook.com/l.php?u=http%3A%2F%2Fwww.cometowestport.com%2F&amp\;h=AT2CVTXWVPwiTHYbjEVmxMI9b7ie0--_uWy7_89yJWhIEbE7PuZ5PzQKdMnXzlxm2l9q523AQ2XD5gfrwD6PuITRmZb-lAZ7-DyxVBSebza3Eg5gbJQZBPoYA32ltyBCF4c" rel="nofollow noopener" style="color: rgb(54\, 88\, 153)\; cursor: pointer\; text-decoration-line: none\; font-family: inherit\;" target="_blank">www.cometowestport.com</a></span></div>\n</div>\n\n<ul class="_63er" style="list-style-type: none\; margin: 0px\; padding: 12px 12px 8px\; color: rgb(29\, 33\, 41)\; font-family: Helvetica\, Arial\, sans-serif\; font-size: 12px\; background-color: rgb(255\, 255\, 255)\;"><br />\n	&nbsp\;\n</ul>\n
LOCATION:Westport\, WA
UID:e.26.11224
SEQUENCE:3
DTSTAMP:20260425T015537Z
URL:https://chamber.graysharbor.org/events/details/30-miles-of-junque-11224
END:VEVENT

END:VCALENDAR
