BEGIN:VCALENDAR
VERSION:2.0
PRODID:-//ChamberMaster//Event Calendar 2.0//EN
METHOD:PUBLISH
X-PUBLISHED-TTL:P3D
REFRESH-INTERVAL:P3D
CALSCALE:GREGORIAN
BEGIN:VEVENT
DTSTART;VALUE=DATE:20170916
DTEND;VALUE=DATE:20170918
TRANSP:TRANSPARENT
X-MICROSOFT-CDO-ALLDAYEVENT:TRUE
SUMMARY:30 Miles of Junque Garage Sale
DESCRIPTION:From Tokeland to Westport and Ocosta\, Garage Sales Galore.\n\n\n\nClick here the 2016 Map PDF.
X-ALT-DESC;FMTTYPE=text/html:From Tokeland to Westport and Ocosta\, Garage Sales Galore.<br />\n<br />\n<a href="http://www.westportgrayland-chamber.org/pdfs/2016-30-MOJ-Maps-11x17.pdf" target="_blank"><font color="#0066cc">Click here</font></a> the 2016 Map PDF.
LOCATION:South Beach area of Grays Harbor.
UID:e.26.7632
SEQUENCE:3
DTSTAMP:20260425T230600Z
URL:https://chamber.graysharbor.org/events/details/30-miles-of-junque-garage-sale-7632
END:VEVENT

END:VCALENDAR
