BEGIN:VCALENDAR
VERSION:2.0
PRODID:-//ChamberMaster//Event Calendar 2.0//EN
METHOD:PUBLISH
X-PUBLISHED-TTL:P3D
REFRESH-INTERVAL:P3D
CALSCALE:GREGORIAN
BEGIN:VEVENT
DTSTART:20181208T180000Z
DTEND:20181208T230000Z
X-MICROSOFT-CDO-ALLDAYEVENT:FALSE
SUMMARY:3rd Annual One Stop Christmas Shop
DESCRIPTION:Come on our and join us for the 3rd Annual One Stop Christmas Shop! There will be over 20 vendors with unique gift ideas for everyone on your Christmas shopping list. Stop on by Saturday December 8th from 10-3 to get some great gifts\, win some raffle prizes or get some lunch. \n\n\n\nShop Small & Support Local businesses this Holiday Season. \n\n\n\nWe are putting on the annual event to help raise money to fix our plumbing and add an outdoor BBQ area to the VFW Hall. All vendor fees\, raffle donations and food purchases will go towards helping us make upgrades and improvements to our building.
X-ALT-DESC;FMTTYPE=text/html:<span style="display: inline !important\; float: none\; background-color: transparent\; color: rgb(29\, 33\, 41)\; font-family: Helvetica\,Arial\,sans-serif\; font-size: 14px\; font-style: normal\; font-variant: normal\; font-weight: 400\; letter-spacing: normal\; orphans: 2\; text-align: left\; text-decoration: none\; text-indent: 0px\; text-transform: none\; -webkit-text-stroke-width: 0px\; white-space: normal\; word-spacing: 0px\;">Come on our and join us for the 3rd Annual One Stop Christmas Shop! There will be over 20 vendors with unique gift ideas for everyone on your Christmas shopping list. Stop on by Saturday December 8th from 10-3 to get some great gifts\, win some raffle prizes or get some lunch. </span><br style="background-color: transparent\; color: rgb(29\, 33\, 41)\; font-family: Helvetica\,Arial\,sans-serif\; font-size: 14px\; font-style: normal\; font-variant: normal\; font-weight: 400\; letter-spacing: normal\; orphans: 2\; text-align: left\; text-decoration: none\; text-indent: 0px\; text-transform: none\; -webkit-text-stroke-width: 0px\; white-space: normal\; word-spacing: 0px\;" />\n<br style="background-color: transparent\; color: rgb(29\, 33\, 41)\; font-family: Helvetica\,Arial\,sans-serif\; font-size: 14px\; font-style: normal\; font-variant: normal\; font-weight: 400\; letter-spacing: normal\; orphans: 2\; text-align: left\; text-decoration: none\; text-indent: 0px\; text-transform: none\; -webkit-text-stroke-width: 0px\; white-space: normal\; word-spacing: 0px\;" />\n<span style="display: inline !important\; float: none\; background-color: transparent\; color: rgb(29\, 33\, 41)\; font-family: Helvetica\,Arial\,sans-serif\; font-size: 14px\; font-style: normal\; font-variant: normal\; font-weight: 400\; letter-spacing: normal\; orphans: 2\; text-align: left\; text-decoration: none\; text-indent: 0px\; text-transform: none\; -webkit-text-stroke-width: 0px\; white-space: normal\; word-spacing: 0px\;">Shop Small &amp\; Support Local businesses this Holiday Season. </span><br style="background-color: transparent\; color: rgb(29\, 33\, 41)\; font-family: Helvetica\,Arial\,sans-serif\; font-size: 14px\; font-style: normal\; font-variant: normal\; font-weight: 400\; letter-spacing: normal\; orphans: 2\; text-align: left\; text-decoration: none\; text-indent: 0px\; text-transform: none\; -webkit-text-stroke-width: 0px\; white-space: normal\; word-spacing: 0px\;" />\n<br style="background-color: transparent\; color: rgb(29\, 33\, 41)\; font-family: Helvetica\,Arial\,sans-serif\; font-size: 14px\; font-style: normal\; font-variant: normal\; font-weight: 400\; letter-spacing: normal\; orphans: 2\; text-align: left\; text-decoration: none\; text-indent: 0px\; text-transform: none\; -webkit-text-stroke-width: 0px\; white-space: normal\; word-spacing: 0px\;" />\n<span style="display: inline !important\; float: none\; background-color: transparent\; color: rgb(29\, 33\, 41)\; font-family: Helvetica\,Arial\,sans-serif\; font-size: 14px\; font-style: normal\; font-variant: normal\; font-weight: 400\; letter-spacing: normal\; orphans: 2\; text-align: left\; text-decoration: none\; text-indent: 0px\; text-transform: none\; -webkit-text-stroke-width: 0px\; white-space: normal\; word-spacing: 0px\;">We are putting on the annual event to help raise money to fix our plumbing and add an outdoor BBQ area to the VFW Hall. All vendor fees\, raffle donations and food purchases will go towards helping us make upgrades and improvements to our building.</span>
LOCATION:158 N Summit Rd McCleary\, WA
UID:e.26.11327
SEQUENCE:3
DTSTAMP:20260424T210736Z
URL:https://chamber.graysharbor.org/events/details/3rd-annual-one-stop-christmas-shop-11327
END:VEVENT

END:VCALENDAR
