BEGIN:VCALENDAR
VERSION:2.0
PRODID:-//ChamberMaster//Event Calendar 2.0//EN
METHOD:PUBLISH
X-PUBLISHED-TTL:P3D
REFRESH-INTERVAL:P3D
CALSCALE:GREGORIAN
BEGIN:VEVENT
DTSTART:20191218T010000Z
DTEND:20191218T030000Z
X-MICROSOFT-CDO-ALLDAYEVENT:FALSE
SUMMARY:3rd Annual Operation “Stuff The Stockings”
DESCRIPTION:Need a little help filling your stockings this year?\n\nSanta has partnered with the Aberdeen American Legion and the Dollar Tree to help you out! \n\nJoin us so all kids of Grays Harbor can have a very Merry Christmas! \n\nWhile supplies last.
X-ALT-DESC;FMTTYPE=text/html:<span style="font-family:arial\;"><span style="caret-color: rgb(29\, 33\, 41)\; color: rgb(29\, 33\, 41)\; font-size: 14px\; white-space: pre-wrap\;">Need a little help filling your stockings this year?</span><br style="caret-color: rgb(29\, 33\, 41)\; color: rgb(29\, 33\, 41)\; font-family: system-ui\, -apple-system\, BlinkMacSystemFont\, &quot\;.SFNSText-Regular&quot\;\, sans-serif\; font-size: 14px\; white-space: pre-wrap\;" />\n<span style="caret-color: rgb(29\, 33\, 41)\; color: rgb(29\, 33\, 41)\; font-size: 14px\; white-space: pre-wrap\;">Santa has partnered with the Aberdeen American Legion and the Dollar Tree to help you out! </span><br style="caret-color: rgb(29\, 33\, 41)\; color: rgb(29\, 33\, 41)\; font-family: system-ui\, -apple-system\, BlinkMacSystemFont\, &quot\;.SFNSText-Regular&quot\;\, sans-serif\; font-size: 14px\; white-space: pre-wrap\;" />\n<span style="caret-color: rgb(29\, 33\, 41)\; color: rgb(29\, 33\, 41)\; font-size: 14px\; white-space: pre-wrap\;">Join us so all kids of Grays Harbor can have a very Merry Christmas! </span><br style="caret-color: rgb(29\, 33\, 41)\; color: rgb(29\, 33\, 41)\; font-family: system-ui\, -apple-system\, BlinkMacSystemFont\, &quot\;.SFNSText-Regular&quot\;\, sans-serif\; font-size: 14px\; white-space: pre-wrap\;" />\n<span style="caret-color: rgb(29\, 33\, 41)\; color: rgb(29\, 33\, 41)\; font-size: 14px\; white-space: pre-wrap\;">While supplies last.</span></span>
LOCATION:pin Aberdeen American Legion. 112 W 1st St\, Aberdeen\, Washington 98520
UID:e.26.12322
SEQUENCE:3
DTSTAMP:20260424T025102Z
URL:https://chamber.graysharbor.org/events/details/3rd-annual-operation-stuff-the-stockings-12322
END:VEVENT

END:VCALENDAR
