BEGIN:VCALENDAR
VERSION:2.0
PRODID:-//ChamberMaster//Event Calendar 2.0//EN
METHOD:PUBLISH
X-PUBLISHED-TTL:P3D
REFRESH-INTERVAL:P3D
CALSCALE:GREGORIAN
BEGIN:VEVENT
DTSTART:20190511T170000Z
DTEND:20190511T230000Z
X-MICROSOFT-CDO-ALLDAYEVENT:FALSE
SUMMARY:3rd Annual Spring Into Summer!
DESCRIPTION:Come on our and join us for the 3rd Annual Spring Into Summer Event! There will be over 20 vendors with unique gift ideas for the Mom in your life. Stop on by Saturday May 11th from 10-4 to get some great gifts\, win some raffle prizes or get some lunch. \n\n\n\nShop Small & Support Local Businesses.\n\n\n\nWe are putting on the annual event to help raise money to fix our plumbing and add an outdoor BBQ area to the VFW Hall. All vendor fees\, raffle donations and food purchases will go towards helping us make upgrades and improvements to our building.
X-ALT-DESC;FMTTYPE=text/html:<span style="caret-color: rgb(29\, 33\, 41)\; color: rgb(29\, 33\, 41)\; font-family: system-ui\, -apple-system\, BlinkMacSystemFont\, &quot\;.SFNSText-Regular&quot\;\, sans-serif\; font-size: 14px\; white-space: pre-wrap\;">Come on our and join us for the 3rd Annual Spring Into Summer Event! There will be over 20 vendors with unique gift ideas for the Mom in your life. Stop on by Saturday May 11th from 10-4 to get some great gifts\, win some raffle prizes or get some lunch. </span><br style="caret-color: rgb(29\, 33\, 41)\; color: rgb(29\, 33\, 41)\; font-family: system-ui\, -apple-system\, BlinkMacSystemFont\, &quot\;.SFNSText-Regular&quot\;\, sans-serif\; font-size: 14px\; white-space: pre-wrap\;" />\n<br style="caret-color: rgb(29\, 33\, 41)\; color: rgb(29\, 33\, 41)\; font-family: system-ui\, -apple-system\, BlinkMacSystemFont\, &quot\;.SFNSText-Regular&quot\;\, sans-serif\; font-size: 14px\; white-space: pre-wrap\;" />\n<span style="caret-color: rgb(29\, 33\, 41)\; color: rgb(29\, 33\, 41)\; font-family: system-ui\, -apple-system\, BlinkMacSystemFont\, &quot\;.SFNSText-Regular&quot\;\, sans-serif\; font-size: 14px\; white-space: pre-wrap\;">Shop Small &amp\; Support Local Businesses.</span><br style="caret-color: rgb(29\, 33\, 41)\; color: rgb(29\, 33\, 41)\; font-family: system-ui\, -apple-system\, BlinkMacSystemFont\, &quot\;.SFNSText-Regular&quot\;\, sans-serif\; font-size: 14px\; white-space: pre-wrap\;" />\n<br style="caret-color: rgb(29\, 33\, 41)\; color: rgb(29\, 33\, 41)\; font-family: system-ui\, -apple-system\, BlinkMacSystemFont\, &quot\;.SFNSText-Regular&quot\;\, sans-serif\; font-size: 14px\; white-space: pre-wrap\;" />\n<span style="caret-color: rgb(29\, 33\, 41)\; color: rgb(29\, 33\, 41)\; font-family: system-ui\, -apple-system\, BlinkMacSystemFont\, &quot\;.SFNSText-Regular&quot\;\, sans-serif\; font-size: 14px\; white-space: pre-wrap\;">We are putting on the annual event to help raise money to fix our plumbing and add an outdoor BBQ area to the VFW Hall. All vendor fees\, raffle donations and food purchases will go towards helping us make upgrades and improvements to our building.</span>
LOCATION:pin McCleary VFW Hall 158 N Summit Rd.\, McCleary\, Washington 98557
UID:e.26.11957
SEQUENCE:3
DTSTAMP:20260424T132433Z
URL:https://chamber.graysharbor.org/events/details/3rd-annual-spring-into-summer-11957
END:VEVENT

END:VCALENDAR
