BEGIN:VCALENDAR
VERSION:2.0
PRODID:-//ChamberMaster//Event Calendar 2.0//EN
METHOD:PUBLISH
X-PUBLISHED-TTL:P3D
REFRESH-INTERVAL:P3D
CALSCALE:GREGORIAN
BEGIN:VEVENT
DTSTART:20180315T233000Z
DTEND:20180316T010000Z
X-MICROSOFT-CDO-ALLDAYEVENT:FALSE
SUMMARY:3rd Thursdays at Barene DenAdel
DESCRIPTION:Join us for our latest 3rd Thursday Open House at Barene DenAdel! Stop by our office in Aberdeen Square anytime between 4:30-6:00pm for refreshments and light hors d'oeuvres. Grays Harbor County Assessor Dan Lindgren will be giving a brief presentation at 5:15pm about the recent property tax rate changes.
X-ALT-DESC;FMTTYPE=text/html:Join us for our latest 3rd Thursday Open House at Barene DenAdel! Stop by our office in Aberdeen Square anytime between 4:30-6:00pm for refreshments and light hors d&#39\;oeuvres. Grays Harbor County Assessor Dan Lindgren will be giving a brief presentation at 5:15pm about the recent property tax rate changes.
LOCATION:Aberdeen Square Atrium 110 West Market Street\, 2nd Floor Aberdeen\, WA 98520
UID:e.26.9548
SEQUENCE:3
DTSTAMP:20260425T115249Z
URL:https://chamber.graysharbor.org/events/details/3rd-thursdays-at-barene-denadel-03-15-2018-9548
END:VEVENT

END:VCALENDAR
