BEGIN:VCALENDAR
VERSION:2.0
PRODID:-//ChamberMaster//Event Calendar 2.0//EN
METHOD:PUBLISH
X-PUBLISHED-TTL:P3D
REFRESH-INTERVAL:P3D
CALSCALE:GREGORIAN
BEGIN:VEVENT
DTSTART:20180119T003000Z
DTEND:20180119T020000Z
X-MICROSOFT-CDO-ALLDAYEVENT:FALSE
SUMMARY:3rd Thursdays @ Barene DenAdel-Tax Reform's Impact on Small Business
DESCRIPTION:Join us for our inaugural 3rd Thursdays at Barene DenAdel! We will be sharing the impacts of the newly passed tax reform for Small Businesses. Stop by our office in Aberdeen Square anytime between 4:30 and 6 for refreshments\, light hors d'oeuvres and the latest small business tax tips. We will be giving a brief presentation at 5:15 outlining impacts of The Tax Cuts and Jobs Act.
X-ALT-DESC;FMTTYPE=text/html:Join us for our inaugural 3rd Thursdays at Barene DenAdel! We will be sharing the impacts of the newly passed tax reform for Small Businesses. Stop by our office in Aberdeen Square anytime between 4:30 and 6 for refreshments\, light hors d&#39\;oeuvres and the latest small business tax tips. We will be giving a brief presentation at 5:15 outlining impacts of The Tax Cuts and Jobs Act.
LOCATION:Aberdeen Square Atrium 110 West Market Street\, 2nd Floor Aberdeen\, WA 98520
UID:e.26.9442
SEQUENCE:3
DTSTAMP:20260425T150057Z
URL:https://chamber.graysharbor.org/events/details/3rd-thursdays-barene-denadel-tax-reform-s-impact-on-small-business-9442
END:VEVENT

END:VCALENDAR
