BEGIN:VCALENDAR
VERSION:2.0
PRODID:-//ChamberMaster//Event Calendar 2.0//EN
METHOD:PUBLISH
X-PUBLISHED-TTL:P3D
REFRESH-INTERVAL:P3D
CALSCALE:GREGORIAN
BEGIN:VEVENT
DTSTART:20190921T190000Z
DTEND:20190922T050000Z
X-MICROSOFT-CDO-ALLDAYEVENT:FALSE
SUMMARY:3rd Wurst Party Ever
DESCRIPTION:Steam Donkey's 3rd Annual Oktoberfest party featuring live entertainment\, games\, beer and food!
X-ALT-DESC;FMTTYPE=text/html:Steam Donkey's 3rd Annual Oktoberfest party featuring live entertainment\, games\, beer and food!
LOCATION:Steam Donkey Brewing 101 E. Wishkah St. Aberdeen\, WA 98520
UID:e.26.12131
SEQUENCE:3
DTSTAMP:20260424T073756Z
URL:https://chamber.graysharbor.org/events/details/3rd-wurst-party-ever-12131
END:VEVENT

END:VCALENDAR
