BEGIN:VCALENDAR
VERSION:2.0
PRODID:-//ChamberMaster//Event Calendar 2.0//EN
METHOD:PUBLISH
X-PUBLISHED-TTL:P3D
REFRESH-INTERVAL:P3D
CALSCALE:GREGORIAN
BEGIN:VEVENT
DTSTART:20181204T170000Z
DTEND:20181204T200000Z
X-MICROSOFT-CDO-ALLDAYEVENT:FALSE
SUMMARY:4 Things to Know About HR and Your Organization
DESCRIPTION:Employees are your most valuable asset as can be a significant liability to your nonprofit. By approaching human resources from beginning to end\, you can set the stage for a successful partnership with your employees. A cohesive environment will set the stage for employees being their best\, creating opportunities and creativity. Often these same roles are filled by volunteers and having successful strategies will help you help your organization be the best it can be!\n\n\n\nIn this workshop we will be covering what you need in place before you are ready to hire\, assessing your organization's culture and best practices when seeking your next team member\, what tools and methods can be employed to show them you value them\, and how to support your team as a whole when its time for that employee to leave the organization.
X-ALT-DESC;FMTTYPE=text/html:<span style="caret-color: rgb(29\, 33\, 41)\; color: rgb(29\, 33\, 41)\; font-family: system-ui\, -apple-system\, BlinkMacSystemFont\, &quot\;.SFNSText-Regular&quot\;\, sans-serif\; font-size: 14px\; background-color: rgb(255\, 255\, 255)\;">Employees are your most valuable asset as can be a significant liability to your nonprofit. By approaching human resources from beginning to end\, you can set the stage for a successful partnership with your employees. A cohesive environment will set the stage for employees being their best\, creating opportunities and creativity. Often these same roles are filled by volunteers and having successful strategies will help you help your organization be the best it can be!</span><br style="caret-color: rgb(29\, 33\, 41)\; color: rgb(29\, 33\, 41)\; font-family: system-ui\, -apple-system\, BlinkMacSystemFont\, &quot\;.SFNSText-Regular&quot\;\, sans-serif\; font-size: 14px\;" />\n<br style="caret-color: rgb(29\, 33\, 41)\; color: rgb(29\, 33\, 41)\; font-family: system-ui\, -apple-system\, BlinkMacSystemFont\, &quot\;.SFNSText-Regular&quot\;\, sans-serif\; font-size: 14px\;" />\n<span style="caret-color: rgb(29\, 33\, 41)\; color: rgb(29\, 33\, 41)\; font-family: system-ui\, -apple-system\, BlinkMacSystemFont\, &quot\;.SFNSText-Regular&quot\;\, sans-serif\; font-size: 14px\; background-color: rgb(255\, 255\, 255)\;">In this workshop we will be covering what you need in place before you are ready to hire\, assessing your organization&#39\;s culture and best practices when seeking your next team member\, what tools and methods can be employed to show them you value them\, and how to support your team as a whole when its time for that employee to leave the organization.</span>
LOCATION:Grays Harbor College Aberdeen\, WA
UID:e.26.11357
SEQUENCE:3
DTSTAMP:20260424T210757Z
URL:https://chamber.graysharbor.org/events/details/4-things-to-know-about-hr-and-your-organization-11357
END:VEVENT

END:VCALENDAR
