BEGIN:VCALENDAR
VERSION:2.0
PRODID:-//ChamberMaster//Event Calendar 2.0//EN
METHOD:PUBLISH
X-PUBLISHED-TTL:P3D
REFRESH-INTERVAL:P3D
CALSCALE:GREGORIAN
BEGIN:VEVENT
DTSTART;VALUE=DATE:20181117
DTEND;VALUE=DATE:20181119
TRANSP:TRANSPARENT
X-MICROSOFT-CDO-ALLDAYEVENT:TRUE
SUMMARY:40th Annual Country Christmas Bazaar
DESCRIPTION:Come shop at over 200 booths created by the best vendors in the Pacific Northwest. ALL HANDCRAFTED items include: rustic\, vintage\, reclaimed and holiday decor\; jewelry\; pottery\; baked goods\; fused glass\; crochet\; fleece\; gourmet foods\; furniture\; signs\; clothing\; metal works\; candles\; wreaths\; and much\, much more! FREE admission and FREE parking. Lunch available.
X-ALT-DESC;FMTTYPE=text/html:<div class="_63ew" data-testid="event-permalink-details" style="background-color: transparent\; color: rgb(29\, 33\, 41)\; font-family: Helvetica\,Arial\,sans-serif\; font-size: 14px\; font-style: normal\; font-variant: normal\; font-weight: 400\; letter-spacing: normal\; orphans: 2\; text-align: left\; text-decoration: none\; text-indent: 0px\; text-transform: none\; -webkit-text-stroke-width: 0px\; white-space: normal\; word-spacing: 0px\;"><span style="font-family: Helvetica\,Arial\,sans-serif\;">Come shop at over 200 booths created by the best vendors in the Pacific Northwest. ALL HANDCRAFTED items include: rustic\, vintage\, reclaimed and holiday decor\; jewelry\; pottery\; baked goods\; fused glass\; crochet\; fleece\; gourmet foods\; furniture\; signs\; clothing\; metal works\; candles\; wreaths\; and much\, much more! FREE admission and FREE parking. Lunch available.</span></div>\n
LOCATION:Grays Harbor Fairgrounds Elma\, WA
UID:e.26.11304
SEQUENCE:3
DTSTAMP:20260424T224349Z
URL:https://chamber.graysharbor.org/events/details/40th-annual-country-christmas-bazaar-11304
END:VEVENT

END:VCALENDAR
