BEGIN:VCALENDAR
VERSION:2.0
PRODID:-//ChamberMaster//Event Calendar 2.0//EN
METHOD:PUBLISH
X-PUBLISHED-TTL:P3D
REFRESH-INTERVAL:P3D
CALSCALE:GREGORIAN
BEGIN:VEVENT
DTSTART;VALUE=DATE:20191123
DTEND;VALUE=DATE:20191125
TRANSP:TRANSPARENT
X-MICROSOFT-CDO-ALLDAYEVENT:TRUE
SUMMARY:41st Annual Country Christmas Bazaar
DESCRIPTION:The 41st Annual Country Christmas Bazaar will surely get you in the holiday spirit! Homemade\, hand crafted and specialty items.
X-ALT-DESC;FMTTYPE=text/html:<span style="font-size:14px\;"><span style="font-family:arial\;"><span style="caret-color: rgb(49\, 49\, 49)\; color: rgb(49\, 49\, 49)\;">The 41st Annual Country Christmas Bazaar will surely get you in the holiday spirit!&nbsp\;</span><span style="caret-color: rgb(49\, 49\, 49)\; color: rgb(49\, 49\, 49)\;">Homemade\, hand crafted and specialty items.&nbsp\;</span></span></span>
LOCATION:Grays Harbor Fairgrounds Elma\, WA
UID:e.26.11766
SEQUENCE:3
DTSTAMP:20260424T042111Z
URL:https://chamber.graysharbor.org/events/details/41st-annual-country-christmas-bazaar-11766
END:VEVENT

END:VCALENDAR
