BEGIN:VCALENDAR
VERSION:2.0
PRODID:-//ChamberMaster//Event Calendar 2.0//EN
METHOD:PUBLISH
X-PUBLISHED-TTL:P3D
REFRESH-INTERVAL:P3D
CALSCALE:GREGORIAN
BEGIN:VEVENT
DTSTART:20171111T170000Z
DTEND:20171111T230000Z
X-MICROSOFT-CDO-ALLDAYEVENT:FALSE
SUMMARY:4th Annual Holiday Bazaar
DESCRIPTION:Wishkah Booster Club/PTO is hosting their 4th Annual Holiday Bazaar on Saturday November 11th from 9am to 3 pm! We have 35 vendor spots available at a first come first serve basis for $25 a booth. Pm me your address and I can get an application packet sent out to you! Can't wait to see everyone there again!!
X-ALT-DESC;FMTTYPE=text/html:<div class="_4-u2 _3xaf _3-95 _4-u8" style="border-width: 1px 0px\; border-style: solid\; border-image: initial\; border-color: transparent\; border-radius: 3px\; background-color: rgb(255\, 255\, 255)\; margin-bottom: 8px\; position: relative\; font-family: Helvetica\, Arial\, sans-serif\; color: rgb(29\, 33\, 41)\; font-size: 12px\;">\n<div class="_2qgs" style="color: rgb(75\, 79\, 86)\; padding: 12px\; position: relative\; border-top: none\; font-family: inherit\;"><span class="_4n-j _3cht fsl" data-testid="event-permalink-details" style="font-size: 14px\; font-family: inherit\;">Wishkah Booster Club/PTO is hosting their 4th Annual Holiday Bazaar on Saturday November 11th from 9am to 3 pm! We have 35 vendor spots available at a first come first serve basis for $25 a booth. Pm me your address and I can get an application packet sent out to you! Can&#39\;t wait to see everyone there again!!</span></div>\n</div>\n\n<div data-testid="message_friends_unit" id="u_jsonp_16_n" style="font-family: Helvetica\, Arial\, sans-serif\; color: rgb(29\, 33\, 41)\; font-size: 12px\; background-color: rgb(233\, 235\, 238)\;">\n<div class="_5-ra _4-u2  _4-u8" style="border-width: 1px 0px\; border-style: solid\; border-image: initial\; border-color: transparent\; border-radius: 3px\; background-color: rgb(255\, 255\, 255)\; margin-bottom: 12px\; position: relative\; font-family: inherit\;">\n<div class="_5dw9 _5dwa _4-u3" style="line-height: 12px\; overflow: hidden\; padding: 8px 0px 7px\; position: relative\; min-height: 24px\; border-top: none\; border-top-left-radius: 3px\; border-top-right-radius: 3px\; font-family: inherit\;">&nbsp\;</div>\n</div>\n</div>\n
LOCATION:Wishkah Valley School 4640 Wishkah Rd Aberdeen
UID:e.26.8280
SEQUENCE:3
DTSTAMP:20260425T181039Z
URL:https://chamber.graysharbor.org/events/details/4th-annual-holiday-bazaar-8280
END:VEVENT

END:VCALENDAR
