BEGIN:VCALENDAR
VERSION:2.0
PRODID:-//ChamberMaster//Event Calendar 2.0//EN
METHOD:PUBLISH
X-PUBLISHED-TTL:P3D
REFRESH-INTERVAL:P3D
CALSCALE:GREGORIAN
BEGIN:VEVENT
DTSTART:20191214T180000Z
DTEND:20191215T000000Z
X-MICROSOFT-CDO-ALLDAYEVENT:FALSE
SUMMARY:4th Annual One Stop Christmas Shop
DESCRIPTION:Join us for the 4th Annual One Stop Christmas Shop! There will be over 20 vendors with unique gift ideas for everyone on your Christmas shopping list. Stop on by Saturday December 14th from 10-4pm to pick up great gifts\, win raffle prizes or get some lunch. \n\n\n\nShop Small & Support Local businesses this Holiday Season. \n\n\n\nWe are putting on the annual event to help raise money to fix our plumbing and add an outdoor BBQ area to the VFW Hall. All vendor fees\, raffle donations and food purchases will go towards helping us make upgrades and improvements to our building.
X-ALT-DESC;FMTTYPE=text/html:<span style="caret-color: rgb(29\, 33\, 41)\; color: rgb(29\, 33\, 41)\; font-family: system-ui\, -apple-system\, BlinkMacSystemFont\, &quot\;.SFNSText-Regular&quot\;\, sans-serif\; font-size: 14px\; white-space: pre-wrap\; background-color: rgb(255\, 255\, 255)\;">Join us for the 4th Annual One Stop Christmas Shop! There will be over 20 vendors with unique gift ideas for everyone on your Christmas shopping list. Stop on by Saturday December 14th from 10-4pm to pick up great gifts\, win raffle prizes or get some lunch. </span><br style="caret-color: rgb(29\, 33\, 41)\; color: rgb(29\, 33\, 41)\; font-family: system-ui\, -apple-system\, BlinkMacSystemFont\, &quot\;.SFNSText-Regular&quot\;\, sans-serif\; font-size: 14px\; white-space: pre-wrap\;" />\n<br style="caret-color: rgb(29\, 33\, 41)\; color: rgb(29\, 33\, 41)\; font-family: system-ui\, -apple-system\, BlinkMacSystemFont\, &quot\;.SFNSText-Regular&quot\;\, sans-serif\; font-size: 14px\; white-space: pre-wrap\;" />\n<span style="caret-color: rgb(29\, 33\, 41)\; color: rgb(29\, 33\, 41)\; font-family: system-ui\, -apple-system\, BlinkMacSystemFont\, &quot\;.SFNSText-Regular&quot\;\, sans-serif\; font-size: 14px\; white-space: pre-wrap\; background-color: rgb(255\, 255\, 255)\;">Shop Small &amp\; Support Local businesses this Holiday Season. </span><br style="caret-color: rgb(29\, 33\, 41)\; color: rgb(29\, 33\, 41)\; font-family: system-ui\, -apple-system\, BlinkMacSystemFont\, &quot\;.SFNSText-Regular&quot\;\, sans-serif\; font-size: 14px\; white-space: pre-wrap\;" />\n<br style="caret-color: rgb(29\, 33\, 41)\; color: rgb(29\, 33\, 41)\; font-family: system-ui\, -apple-system\, BlinkMacSystemFont\, &quot\;.SFNSText-Regular&quot\;\, sans-serif\; font-size: 14px\; white-space: pre-wrap\;" />\n<span style="caret-color: rgb(29\, 33\, 41)\; color: rgb(29\, 33\, 41)\; font-family: system-ui\, -apple-system\, BlinkMacSystemFont\, &quot\;.SFNSText-Regular&quot\;\, sans-serif\; font-size: 14px\; white-space: pre-wrap\; background-color: rgb(255\, 255\, 255)\;">We are putting on the annual event to help raise money to fix our plumbing and add an outdoor BBQ area to the VFW Hall. All vendor fees\, raffle donations and food purchases will go towards helping us make upgrades and improvements to our building.</span>
LOCATION:pin McCleary VFW Hall 158 N Summit Rd.\, McCleary\, Washington 98557
UID:e.26.12249
SEQUENCE:3
DTSTAMP:20260424T025230Z
URL:https://chamber.graysharbor.org/events/details/4th-annual-one-stop-christmas-shop-12249
END:VEVENT

END:VCALENDAR
