BEGIN:VCALENDAR
VERSION:2.0
PRODID:-//ChamberMaster//Event Calendar 2.0//EN
METHOD:PUBLISH
X-PUBLISHED-TTL:P3D
REFRESH-INTERVAL:P3D
CALSCALE:GREGORIAN
BEGIN:VEVENT
DTSTART;VALUE=DATE:20260129
DTEND;VALUE=DATE:20260203
TRANSP:TRANSPARENT
X-MICROSOFT-CDO-ALLDAYEVENT:TRUE
SUMMARY:4th Annual Storms & Seafood
DESCRIPTION:Join us January 29th-1 February 2nd for the 4th Annual Storms & Seafood\, where wild weather meets the best local seafood from the Pacific Coast!\n\nPassport Experience\n\nExplore participating restaurants\, markets\, and businesses while taking in the South Beach's dramatic coastal views. Complete your passport for a Westport Fresh Catch swag bag!\n\nPre-Register Today!\n\nSave with discounted registration and get entered to win a custom seafood basket!\n\nWhat to Expect:\n\n\n	Incredible local flavors\n	Breathtaking Weather\n	A celebration of Westport's seafood and stormy beauty\n\n\nDon't miss this unforgettable weekend in the heart of Washington's seafood industry. Great food\, wild weather\, and coastal fun await!
X-ALT-DESC;FMTTYPE=text/html:<div class="xdj266r x14z9mp xat24cr x1lziwak x1vvkbs" style="overflow-wrap: break-word\; margin-inline: 0px\; margin-bottom: 0px\; margin-top: 0px\; font-family: &quot\;Segoe UI Historic&quot\;\, &quot\;Segoe UI&quot\;\, Helvetica\, Arial\, sans-serif\; color: rgb(8\, 8\, 9)\; font-size: 15px\;">Join us January 29th-1 February 2nd for the 4th Annual Storms &amp\; Seafood\, where wild weather meets the best local seafood from the Pacific Coast!</div>\n\n<div class="x14z9mp xat24cr x1lziwak x1vvkbs xtlvy1s" style="overflow-wrap: break-word\; margin-top: 0.5em\; margin-inline: 0px\; margin-bottom: 0px\; font-family: &quot\;Segoe UI Historic&quot\;\, &quot\;Segoe UI&quot\;\, Helvetica\, Arial\, sans-serif\; color: rgb(8\, 8\, 9)\; font-size: 15px\;"><strong>Passport Experience</strong><br class="html-br" />\nExplore participating restaurants\, markets\, and businesses while taking in the South Beach&#39\;s dramatic coastal views. Complete your passport for a Westport Fresh Catch swag bag!</div>\n\n<div class="x14z9mp xat24cr x1lziwak x1vvkbs xtlvy1s" style="overflow-wrap: break-word\; margin-top: 0.5em\; margin-inline: 0px\; margin-bottom: 0px\; font-family: &quot\;Segoe UI Historic&quot\;\, &quot\;Segoe UI&quot\;\, Helvetica\, Arial\, sans-serif\; color: rgb(8\, 8\, 9)\; font-size: 15px\;"><strong>Pre-Register Today!</strong><br class="html-br" />\nSave with discounted registration and get entered to win a custom seafood basket!</div>\n\n<div class="x14z9mp xat24cr x1lziwak x1vvkbs xtlvy1s" style="overflow-wrap: break-word\; margin-top: 0.5em\; margin-inline: 0px\; margin-bottom: 0px\; font-family: &quot\;Segoe UI Historic&quot\;\, &quot\;Segoe UI&quot\;\, Helvetica\, Arial\, sans-serif\; color: rgb(8\, 8\, 9)\; font-size: 15px\;"><strong>What to Expect:</strong></div>\n\n<ul>\n	<li class="x14z9mp xat24cr x1lziwak x1vvkbs xtlvy1s" style="overflow-wrap: break-word\; margin-top: 0.5em\; margin-inline: 0px\; margin-bottom: 0px\; font-family: &quot\;Segoe UI Historic&quot\;\, &quot\;Segoe UI&quot\;\, Helvetica\, Arial\, sans-serif\; color: rgb(8\, 8\, 9)\; font-size: 15px\;">Incredible local flavors</li>\n	<li class="x14z9mp xat24cr x1lziwak x1vvkbs xtlvy1s" style="overflow-wrap: break-word\; margin-top: 0.5em\; margin-inline: 0px\; margin-bottom: 0px\; font-family: &quot\;Segoe UI Historic&quot\;\, &quot\;Segoe UI&quot\;\, Helvetica\, Arial\, sans-serif\; color: rgb(8\, 8\, 9)\; font-size: 15px\;">Breathtaking Weather</li>\n	<li class="x14z9mp xat24cr x1lziwak x1vvkbs xtlvy1s" style="overflow-wrap: break-word\; margin-top: 0.5em\; margin-inline: 0px\; margin-bottom: 0px\; font-family: &quot\;Segoe UI Historic&quot\;\, &quot\;Segoe UI&quot\;\, Helvetica\, Arial\, sans-serif\; color: rgb(8\, 8\, 9)\; font-size: 15px\;">A celebration of Westport&rsquo\;s seafood and stormy beauty</li>\n</ul>\n\n<div class="x14z9mp xat24cr x1lziwak x1vvkbs xtlvy1s" style="overflow-wrap: break-word\; margin-top: 0.5em\; margin-inline: 0px\; margin-bottom: 0px\; font-family: &quot\;Segoe UI Historic&quot\;\, &quot\;Segoe UI&quot\;\, Helvetica\, Arial\, sans-serif\; color: rgb(8\, 8\, 9)\; font-size: 15px\;">Don&rsquo\;t miss this unforgettable weekend in the heart of Washington&rsquo\;s seafood industry. Great food\, wild weather\, and coastal fun await!</div>\n
LOCATION:Westport\, WA
UID:e.26.16385
SEQUENCE:3
DTSTAMP:20260423T191800Z
URL:https://chamber.graysharbor.org/events/details/4th-annual-storms-seafood-16385
END:VEVENT

END:VCALENDAR
