BEGIN:VCALENDAR
VERSION:2.0
PRODID:-//ChamberMaster//Event Calendar 2.0//EN
METHOD:PUBLISH
X-PUBLISHED-TTL:P3D
REFRESH-INTERVAL:P3D
CALSCALE:GREGORIAN
BEGIN:VEVENT
DTSTART:20180203T180000Z
DTEND:20180205T000000Z
X-MICROSOFT-CDO-ALLDAYEVENT:FALSE
SUMMARY:56th Annual Show of Coins & Collectibles
DESCRIPTION:Grays Harbor Coin Club presents the 2018 56th Annual Show of Coins and Collectibles in the Aberdeen VFW Pot #224.  Free admission and free hourly giveaways!
X-ALT-DESC;FMTTYPE=text/html:Grays Harbor Coin Club presents the 2018 56th Annual Show of Coins and Collectibles in the Aberdeen VFW Pot #224.&nbsp\; Free admission and free hourly giveaways!
LOCATION:Aberdeen VFW Post #224
UID:e.26.9539
SEQUENCE:3
DTSTAMP:20260425T133347Z
URL:https://chamber.graysharbor.org/events/details/56th-annual-show-of-coins-collectibles-9539
END:VEVENT

END:VCALENDAR
