BEGIN:VCALENDAR
VERSION:2.0
PRODID:-//ChamberMaster//Event Calendar 2.0//EN
METHOD:PUBLISH
X-PUBLISHED-TTL:P3D
REFRESH-INTERVAL:P3D
CALSCALE:GREGORIAN
BEGIN:VEVENT
DTSTART;VALUE=DATE:20190406
DTEND;VALUE=DATE:20190408
TRANSP:TRANSPARENT
X-MICROSOFT-CDO-ALLDAYEVENT:TRUE
SUMMARY:57th Annual Driftwood Show and Glass Float Beach Hunt
DESCRIPTION:Family Fun\, Multiple Vendors. Driftwood contest\, Popular Glass Float Hunt on one of the Grayland beaches. Oceanographers question and answer with tables of beach finds.
X-ALT-DESC;FMTTYPE=text/html:Family Fun\, Multiple Vendors. Driftwood contest\, Popular Glass Float Hunt on one of the Grayland beaches. Oceanographers question and answer with tables of beach finds.
LOCATION:2071 Cranberry Rd Grayland\, Washington 98547
UID:e.26.11776
SEQUENCE:3
DTSTAMP:20260424T152629Z
URL:https://chamber.graysharbor.org/events/details/57th-annual-driftwood-show-and-glass-float-beach-hunt-11776
END:VEVENT

END:VCALENDAR
