BEGIN:VCALENDAR
VERSION:2.0
PRODID:-//ChamberMaster//Event Calendar 2.0//EN
METHOD:PUBLISH
X-PUBLISHED-TTL:P3D
REFRESH-INTERVAL:P3D
CALSCALE:GREGORIAN
BEGIN:VEVENT
DTSTART:20260425T170000Z
DTEND:20260426T230000Z
X-MICROSOFT-CDO-ALLDAYEVENT:FALSE
SUMMARY:58th Annual Rock and Gem Show
DESCRIPTION:The Grays Harbor Rock Club is presenting their 58th Annual Rock and Gem Show at the Grays Harbor Fairgrounds.\n\n \nAt the show\, there will be vendors\, a silent auction for rough rocks\, and demonstrations\, one of which will be on how to facet stones. Among the items available for purchase are grab bags of mixed rocks and slabs\, along with items made by members of the Grays Harbor Rock Club.
X-ALT-DESC;FMTTYPE=text/html:<span style="color: rgb(34\, 34\, 34)\; font-family: &quot\;Open Sans&quot\;\, helvetica\, arial\, sans-serif\; font-size: 16px\;">The Grays Harbor Rock Club is presenting their 58th Annual Rock and Gem Show at the Grays Harbor Fairgrounds.</span><br />\n&nbsp\;\n<p style="box-sizing: border-box\; margin: 0px 0px 1em\; font-size: medium\; color: rgb(34\, 34\, 34)\; font-family: &quot\;Open Sans&quot\;\, helvetica\, arial\, sans-serif\;">At the show\, there will be vendors\, a silent auction for rough rocks\, and demonstrations\, one of which will be on how to facet stones. Among the items available for purchase are grab bags of mixed rocks and slabs\, along with items made by members of the Grays Harbor Rock Club.</p>\n
LOCATION:Grays Harbor County Fairgrounds Elma\, WA
UID:e.26.16796
SEQUENCE:3
DTSTAMP:20260422T224101Z
URL:https://chamber.graysharbor.org/events/details/58th-annual-rock-and-gem-show-16796
END:VEVENT

END:VCALENDAR
