BEGIN:VCALENDAR
VERSION:2.0
PRODID:-//ChamberMaster//Event Calendar 2.0//EN
METHOD:PUBLISH
X-PUBLISHED-TTL:P3D
REFRESH-INTERVAL:P3D
CALSCALE:GREGORIAN
BEGIN:VEVENT
DTSTART;VALUE=DATE:20170902
DTEND;VALUE=DATE:20170903
TRANSP:TRANSPARENT
X-MICROSOFT-CDO-ALLDAYEVENT:TRUE
SUMMARY:71st Annual Seafood & Crafts Festival
DESCRIPTION:Family feast complete with live music\, local crafts\, a car show and much more!For more details on the event\, view the poster here. For Exhibitor Registration\, Click Here and Click Here for the indemnification release. For photos from previous years\, Click Here.
X-ALT-DESC;FMTTYPE=text/html:Family feast complete&nbsp\;with live music\, local crafts\, a car show and much more!For more details on the event\, view the poster <a href="http://www.westportgrayland-chamber.org/pdfs/2016-Seafood-Festival-Poster.pdf" target="_blank"><font color="#0066cc">here</font></a>. For Exhibitor Registration\, <a href="http://www.westportgrayland-chamber.org/pdfs/Seafood-2017-Registration.pdf" target="_blank"><font color="#0066cc">Click Here</font></a> and <a href="http://www.westportgrayland-chamber.org/pdfs/Seafood-Indemn-agrm-2017.pdf" target="_blank"><font color="#0066cc">Click Here</font></a> for the indemnification release. For photos from previous years\, <a href="http://www.westportgrayland-chamber.org/photos_seafood_festival.php"><font color="#0066cc">Click Here</font></a>.
LOCATION:Westport\, WA
UID:e.26.7607
SEQUENCE:3
DTSTAMP:20260425T230744Z
URL:https://chamber.graysharbor.org/events/details/71st-annual-seafood-crafts-festival-7607
END:VEVENT

END:VCALENDAR
