BEGIN:VCALENDAR
VERSION:2.0
PRODID:-//ChamberMaster//Event Calendar 2.0//EN
METHOD:PUBLISH
X-PUBLISHED-TTL:P3D
REFRESH-INTERVAL:P3D
CALSCALE:GREGORIAN
BEGIN:VEVENT
DTSTART;VALUE=DATE:20170526
DTEND;VALUE=DATE:20170529
TRANSP:TRANSPARENT
X-MICROSOFT-CDO-ALLDAYEVENT:TRUE
SUMMARY:7th Annual GH Expo
DESCRIPTION:Arts and crafts\, chainsaw carvings\, a car show and home show in Ocean Shores.
X-ALT-DESC;FMTTYPE=text/html:Arts and crafts\, chainsaw carvings\, a car show and home show in Ocean Shores.
LOCATION:Ocean Shores Convention Center Ocean Shores\, WA
UID:e.26.6521
SEQUENCE:3
DTSTAMP:20260426T032735Z
URL:https://chamber.graysharbor.org/events/details/7th-annual-gh-expo-6521
END:VEVENT

END:VCALENDAR
