BEGIN:VCALENDAR
VERSION:2.0
PRODID:-//ChamberMaster//Event Calendar 2.0//EN
METHOD:PUBLISH
X-PUBLISHED-TTL:P3D
REFRESH-INTERVAL:P3D
CALSCALE:GREGORIAN
BEGIN:VEVENT
DTSTART:20170715T170000Z
DTEND:20170715T200000Z
X-MICROSOFT-CDO-ALLDAYEVENT:FALSE
SUMMARY:7th St. Kids Car Wash
DESCRIPTION:A dirty buggy oughta be a crime! Come let Bugsy and the gang clean you out... er\, up! 5 smackers gets ya fixed up and back on your way faster than you can say "Fat Sam's Grand Slam"!\n\n\n\nhttps://www.facebook.com/events/1894503947541159/?acontext={%22ref%22%3A%222%22%2C%22ref_dashboard_filter%22%3A%22invites%22%2C%22sid_reminder%22%3A%225191401050271121408%22%2C%22action_history%22%3A%22[{\\%22surface\\%22%3A\\%22dashboard\\%22%2C\\%22mechanism\\%22%3A\\%22main_list\\%22%2C\\%22extra_data\\%22%3A[]}]%22}
X-ALT-DESC;FMTTYPE=text/html:<span class="_4n-j _3cht fsl" data-testid="event-permalink-details">A dirty buggy oughta be a crime! Come let Bugsy and the gang clean you out... er\, up! 5 smackers gets ya fixed up and back on your way faster than you can say &quot\;Fat Sam&#39\;s Grand Slam&quot\;!</span><br />\n<br />\nhttps://www.facebook.com/events/1894503947541159/?acontext={%22ref%22%3A%222%22%2C%22ref_dashboard_filter%22%3A%22invites%22%2C%22sid_reminder%22%3A%225191401050271121408%22%2C%22action_history%22%3A%22[{\\%22surface\\%22%3A\\%22dashboard\\%22%2C\\%22mechanism\\%22%3A\\%22main_list\\%22%2C\\%22extra_data\\%22%3A[]}]%22}
LOCATION:Grays Harbor PUD 2720 Sumner Ave Aberdeen\, WA 98520
UID:e.26.8053
SEQUENCE:3
DTSTAMP:20260426T003300Z
URL:https://chamber.graysharbor.org/events/details/7th-st-kids-car-wash-8053
END:VEVENT

END:VCALENDAR
