BEGIN:VCALENDAR
VERSION:2.0
PRODID:-//ChamberMaster//Event Calendar 2.0//EN
METHOD:PUBLISH
X-PUBLISHED-TTL:P3D
REFRESH-INTERVAL:P3D
CALSCALE:GREGORIAN
BEGIN:VEVENT
DTSTART:20190421T020000Z
DTEND:20190421T050000Z
X-MICROSOFT-CDO-ALLDAYEVENT:FALSE
SUMMARY:80s Dance Party for the YMCA
DESCRIPTION:Come support the YMCA Annual Campaign at a family friendly 80s Dance Party featuring some of the greatest music videos of the decade! You'll have a great time and will support kids on the Harbor. So rock that hair\, raid your closet\, raid your mom's closet and bring your mom to a night of dancing and fun! This event is by donation\, pay what you can. All funds go to the YMCA Annual Campaign Team Larson/Hoseney.
X-ALT-DESC;FMTTYPE=text/html:<span style="caret-color: rgb(29\, 33\, 41)\; color: rgb(29\, 33\, 41)\; font-family: system-ui\, -apple-system\, BlinkMacSystemFont\, &quot\;.SFNSText-Regular&quot\;\, sans-serif\; font-size: 14px\; white-space: pre-wrap\;">Come support the YMCA Annual Campaign at a family friendly 80s Dance Party featuring some of the greatest music videos of the decade! You&#39\;ll have a great time and will support kids on the Harbor. So rock that hair\, raid your closet\, raid your mom&#39\;s closet and bring your mom to a night of dancing and fun! This event is by donation\, pay what you can. All funds go to the YMCA Annual Campaign Team Larson/Hoseney.</span>
LOCATION:pin Events on Emerson 212 4th St\, Hoquiam\, Washington 98550
UID:e.26.11956
SEQUENCE:3
DTSTAMP:20260424T151048Z
URL:https://chamber.graysharbor.org/events/details/80s-dance-party-for-the-ymca-11956
END:VEVENT

END:VCALENDAR
