BEGIN:VCALENDAR
VERSION:2.0
PRODID:-//ChamberMaster//Event Calendar 2.0//EN
METHOD:PUBLISH
X-PUBLISHED-TTL:P3D
REFRESH-INTERVAL:P3D
CALSCALE:GREGORIAN
BEGIN:VEVENT
DTSTART:20170924T013000Z
DTEND:20170924T060000Z
X-MICROSOFT-CDO-ALLDAYEVENT:FALSE
SUMMARY:80s Prom (Open to Public)
DESCRIPTION:21+ With Valid ID\n\nDance Tickets: $8 each or $15 a couple\n\nAvailable now at the Aberdeen Elks\, or at the door during event.\n\nMusic starts at 8PM\n\n\n\nDinner Tickets: $25 each or $45 a couple\n\nAvailable now at the Aberdeen Elks\, pre-sale only! Will update event when sold out.\n\nDinner starts at 6:30PM\n\nIncludes: Prime Rib or Salmon\, Caesar salad with roll\, steamed veggies with Bakes Potato and for dessert\, 4 layer Vanilla Lemon cake with ice cream!\n\n\n\nProm Photos provided by Alan's Encore Photography. \n\n\n\nExperiemental event\, put on your best 80s formal attire and join us for Prom!\n\nWe will be dropping 80s classics all evening! And of course\, there will be punch\, and a Disco Ball.
X-ALT-DESC;FMTTYPE=text/html:<span style="color: rgb(75\, 79\, 86)\; font-family: Helvetica\, Arial\, sans-serif\; font-size: 14px\; background-color: rgb(255\, 255\, 255)\;">21+ With Valid ID</span><br style="color: rgb(75\, 79\, 86)\; font-family: Helvetica\, Arial\, sans-serif\; font-size: 14px\; background-color: rgb(255\, 255\, 255)\;" />\n<span style="color: rgb(75\, 79\, 86)\; font-family: Helvetica\, Arial\, sans-serif\; font-size: 14px\; background-color: rgb(255\, 255\, 255)\;">Dance Tickets: $8 each or $15 a couple</span><br style="color: rgb(75\, 79\, 86)\; font-family: Helvetica\, Arial\, sans-serif\; font-size: 14px\; background-color: rgb(255\, 255\, 255)\;" />\n<span style="color: rgb(75\, 79\, 86)\; font-family: Helvetica\, Arial\, sans-serif\; font-size: 14px\; background-color: rgb(255\, 255\, 255)\;">Available now at the Aberdeen Elks\, or at the door during event.</span><br style="color: rgb(75\, 79\, 86)\; font-family: Helvetica\, Arial\, sans-serif\; font-size: 14px\; background-color: rgb(255\, 255\, 255)\;" />\n<span style="color: rgb(75\, 79\, 86)\; font-family: Helvetica\, Arial\, sans-serif\; font-size: 14px\; background-color: rgb(255\, 255\, 255)\;">Music starts at 8PM</span><br style="color: rgb(75\, 79\, 86)\; font-family: Helvetica\, Arial\, sans-serif\; font-size: 14px\; background-color: rgb(255\, 255\, 255)\;" />\n<br style="color: rgb(75\, 79\, 86)\; font-family: Helvetica\, Arial\, sans-serif\; font-size: 14px\; background-color: rgb(255\, 255\, 255)\;" />\n<span style="color: rgb(75\, 79\, 86)\; font-family: Helvetica\, Arial\, sans-serif\; font-size: 14px\; background-color: rgb(255\, 255\, 255)\;">Dinner Tickets: $25 each or $45 a couple</span><br style="color: rgb(75\, 79\, 86)\; font-family: Helvetica\, Arial\, sans-serif\; font-size: 14px\; background-color: rgb(255\, 255\, 255)\;" />\n<span style="color: rgb(75\, 79\, 86)\; font-family: Helvetica\, Arial\, sans-serif\; font-size: 14px\; background-color: rgb(255\, 255\, 255)\;">Available now at the Aberdeen Elks\, pre-sale only! Will update event when sold out.</span><br style="color: rgb(75\, 79\, 86)\; font-family: Helvetica\, Arial\, sans-serif\; font-size: 14px\; background-color: rgb(255\, 255\, 255)\;" />\n<span style="color: rgb(75\, 79\, 86)\; font-family: Helvetica\, Arial\, sans-serif\; font-size: 14px\; background-color: rgb(255\, 255\, 255)\;">Dinner starts at 6:30PM</span><br style="color: rgb(75\, 79\, 86)\; font-family: Helvetica\, Arial\, sans-serif\; font-size: 14px\; background-color: rgb(255\, 255\, 255)\;" />\n<span style="color: rgb(75\, 79\, 86)\; font-family: Helvetica\, Arial\, sans-serif\; font-size: 14px\; background-color: rgb(255\, 255\, 255)\;">Includes: Prime Rib or Salmon\, Caesar salad with roll\, steamed veggies with Bakes Potato and for dessert\, 4 layer Vanilla Lemon cake with ice cream!</span><br style="color: rgb(75\, 79\, 86)\; font-family: Helvetica\, Arial\, sans-serif\; font-size: 14px\; background-color: rgb(255\, 255\, 255)\;" />\n<br style="color: rgb(75\, 79\, 86)\; font-family: Helvetica\, Arial\, sans-serif\; font-size: 14px\; background-color: rgb(255\, 255\, 255)\;" />\n<span style="color: rgb(75\, 79\, 86)\; font-family: Helvetica\, Arial\, sans-serif\; font-size: 14px\; background-color: rgb(255\, 255\, 255)\;">Prom Photos provided by Alan&#39\;s Encore Photography.&nbsp\;</span><br style="color: rgb(75\, 79\, 86)\; font-family: Helvetica\, Arial\, sans-serif\; font-size: 14px\; background-color: rgb(255\, 255\, 255)\;" />\n<br />\n<span class="text_exposed_show" style="display: inline\; font-family: Helvetica\, Arial\, sans-serif\; color: rgb(75\, 79\, 86)\; font-size: 14px\; background-color: rgb(255\, 255\, 255)\;">Experiemental event\, put on your best 80s formal attire and join us for Prom!<br />\nWe will be dropping 80s classics all evening! And of course\, there will be punch\, and a Disco Ball.</span>
LOCATION:Aberdeen Elks Club Aberdeen\, WA
UID:e.26.8160
SEQUENCE:3
DTSTAMP:20260425T213811Z
URL:https://chamber.graysharbor.org/events/details/80s-prom-open-to-public-8160
END:VEVENT

END:VCALENDAR
