BEGIN:VCALENDAR
VERSION:2.0
PRODID:-//ChamberMaster//Event Calendar 2.0//EN
METHOD:PUBLISH
X-PUBLISHED-TTL:P3D
REFRESH-INTERVAL:P3D
CALSCALE:GREGORIAN
BEGIN:VEVENT
DTSTART;VALUE=DATE:20170916
DTEND;VALUE=DATE:20170917
TRANSP:TRANSPARENT
X-MICROSOFT-CDO-ALLDAYEVENT:TRUE
SUMMARY:8th Annual Lake Sylvia Fall Festival
DESCRIPTION:Camp Pancake Breakfast\n\nTrail Races\n\nMusic in the Park\n\nKids Games and Races\n\nArtists' Market\n\nFood Vendors\n\nHistory of Lake Sylvia\n\nBoy Scout Cooking Demonstrations\n\nKids Nature Art\n\nIt promises to be a fun day for the whole family!\n\nShuttle service will be available at Simpson Elementary School. \n\nFor those wishing to park at the lake\, you must have a Discover Pass (passes are available at the park).
X-ALT-DESC;FMTTYPE=text/html:<p style="text-align: left\;"><strong><span style="color: rgb(0\, 0\, 0)\;">Camp Pancake Breakfast<br />\nTrail Races<br />\nMusic in the Park<br />\nKids Games and Races<br />\nArtists&rsquo\; Market<br />\nFood Vendors<br />\nHistory of Lake Sylvia<br />\nBoy Scout Cooking Demonstrations<br />\nKids Nature Art</span></strong></p>\n\n<p style="text-align: left\;"><em><span style="color: rgb(0\, 0\, 0)\;">It promises to be a fun day for the whole family!</span></em></p>\n\n<p style="text-align: left\;"><span style="color: rgb(0\, 0\, 0)\;">Shuttle service will be available at Simpson Elementary School.&nbsp\;<br />\nFor those wishing to park at the lake\, you must have a Discover Pass (passes are available at the park).</span></p>\n
LOCATION:Lake Sylvia State Park Montesano\, WA
UID:e.26.7631
SEQUENCE:3
DTSTAMP:20260425T213940Z
URL:https://chamber.graysharbor.org/events/details/8th-annual-lake-sylvia-fall-festival-7631
END:VEVENT

END:VCALENDAR
