BEGIN:VCALENDAR
VERSION:2.0
PRODID:-//ChamberMaster//Event Calendar 2.0//EN
METHOD:PUBLISH
X-PUBLISHED-TTL:P3D
REFRESH-INTERVAL:P3D
CALSCALE:GREGORIAN
BEGIN:VEVENT
DTSTART;VALUE=DATE:20180920
DTEND;VALUE=DATE:20180922
TRANSP:TRANSPARENT
X-MICROSOFT-CDO-ALLDAYEVENT:TRUE
SUMMARY:8th St. Ale House Oktoberfest
DESCRIPTION:Join us for Oktoberfest 2018. We start Friday night with deep fried pickles\, giant pretzels\, and BEER! Oh music as well! Saturday will feature a pig roast - ready by 4PM as well as corn on the cob\, pretzels and deep fried pickles. Bring your best Yodel for our Yodel contest and win a gift certificate. Other games and prizes!
X-ALT-DESC;FMTTYPE=text/html:<span style="display: inline !important\; float: none\; background-color: transparent\; color: rgb(29\, 33\, 41)\; font-family: Helvetica\,Arial\,sans-serif\; font-size: 14px\; font-style: normal\; font-variant: normal\; font-weight: 400\; letter-spacing: normal\; orphans: 2\; text-align: left\; text-decoration: none\; text-indent: 0px\; text-transform: none\; -webkit-text-stroke-width: 0px\; white-space: normal\; word-spacing: 0px\;">Join us for Oktoberfest 2018. We start Friday night with deep fried pickles\, giant pretzels\, and BEER! Oh music as well! Saturday will feature a pig roast - ready by 4PM as well as corn on the cob\, pretzels and deep fried pickles. Bring your best Yodel for our Yodel contest and win a gift certificate. Other games and prizes!</span>
LOCATION:8th St. Ale House Hoquiam\, WA
UID:e.26.11273
SEQUENCE:3
DTSTAMP:20260425T015700Z
URL:https://chamber.graysharbor.org/events/details/8th-st-ale-house-oktoberfest-11273
END:VEVENT

END:VCALENDAR
